BEGIN:VCALENDAR
VERSION:2.0
PRODID:-//jEvents 2.0 for Joomla//EN
CALSCALE:GREGORIAN
METHOD:PUBLISH
BEGIN:VEVENT
UID:e52466d79e2e8c3055d3fd49ca1b6d05
CATEGORIES:Community Events
CREATED:20250508T141601
SUMMARY:Lindsay Open House - HTM Insurance Company
LOCATION:270 Kent Street West
DESCRIPTION:HTM Insurance Company\nOpen House\nWelcome Friends, Neighbours &amp; Client
 s.\nJoin us for a fun day at:\nHTM Insurance Company - Lindsay Office\nJune
  10, 2025 \n10am to 3pm\n270 Kent Street West, Lindsay ON. K9V 2Z6.\n \n
X-ALT-DESC;FMTTYPE=text/html:<p><strong>HTM Insurance Company</strong></p><p><strong>Open House</strong>
 </p><p><strong>Welcome Friends, Neighbours &amp; Clients.</strong></p><p><s
 trong>Join us for a fun day at:</strong></p><p><strong>HTM Insurance Compan
 y - Lindsay Office</strong></p><p><strong>June 10, 2025 </strong></p><p><st
 rong>10am to 3pm</strong></p><p><strong>270 Kent Street West, Lindsay ON. K
 9V 2Z6.</strong></p><p> </p>
CONTACT:705-324-2933
DTSTAMP:20260423T110447
DTSTART:20250610T100000
DTEND:20250610T150000
SEQUENCE:0
TRANSP:OPAQUE
END:VEVENT
END:VCALENDAR