BEGIN:VCALENDAR
VERSION:2.0
PRODID:-//jEvents 2.0 for Joomla//EN
CALSCALE:GREGORIAN
METHOD:PUBLISH
BEGIN:VEVENT
UID:f1c21d9b54b292cb8f1a32f6676304be
CATEGORIES:Community Events
CREATED:20250508T170754
SUMMARY:Local Makers Market
LOCATION:The Salvation Army Peterborough
DESCRIPTION:Stop by The Salvation Army on the corner of Aylmer and Simcoe and enjoy sho
 pping our local, handmade vendor sale!  There is no admission fee.  Local, 
 small business vendors include skin care / soaps, sweets and baking, jewell
 ery, knit / crochet items,  seeds and plants, wood signs and decor, books a
 nd authors, bath bombs, embroidered items.\n
X-ALT-DESC;FMTTYPE=text/html:<p>Stop by The Salvation Army on the corner of Aylmer and Simcoe and enjoy 
 shopping our local, handmade vendor sale!  There is no admission fee.  Loca
 l, small business vendors include skin care / soaps, sweets and baking, jew
 ellery, knit / crochet items,  seeds and plants, wood signs and decor, book
 s and authors, bath bombs, embroidered items.</p>
CONTACT:Heather
DTSTAMP:20260423T042535
DTSTART:20250510T123000
DTEND:20250510T160000
SEQUENCE:0
TRANSP:OPAQUE
END:VEVENT
END:VCALENDAR