BEGIN:VCALENDAR
VERSION:2.0
PRODID:-//jEvents 2.0 for Joomla//EN
CALSCALE:GREGORIAN
METHOD:PUBLISH
BEGIN:VEVENT
UID:f7f6255752a2484f5ccf213344341bd0
CATEGORIES:Community Events
CREATED:20250513T135626
SUMMARY:175th Anniversary Community Celebration
LOCATION:1421 Lansdowne Street West
DESCRIPTION:Mark this event in the calendar! �\nSaturday, May 31, 2025 - 10am -1pm - Co
 mmunity Celebration - 1421 Lansdowne Street West\nWe are very excited to sh
 are in this milestone of 175 years of service in the #ptbo (https://www.fac
 ebook.com/hashtag/ptbo?__eep__=6&amp;__cft__[0]=AZUIcHZ1m6RUju_rJM6tZELwwPA
 cN4lDJ4FE7eB1FXljpgcsMSsdUUn_Ma0l5x00YECL91NldnB_R_LZuNyAX7pedqS5BI2rE_5w2Z
 qgPmqJd9-HOEBQjvNInfXkmYmERmMMrOmsA3mLdeqiRXno7zPD&amp;__tn__=q) community 
 with all of you.\nCome join us and learn about the different units:- K9- Fo
 rensics- Emergency Response Team\n- We will also have our recruitment teams
  on hand learn about policing as a career or how you can volunteer!\n- You 
 can also take a trip through history and policing in Peterborough and so mu
 ch more!\nSee you there!\n
X-ALT-DESC;FMTTYPE=text/html:<p class="xdj266r x11i5rnm xat24cr x1mh8g0r x1vvkbs">Mark this event in the
  calendar! �</p><p class="x11i5rnm xat24cr x1mh8g0r x1vvkbs xtlvy1s">Saturd
 ay, May 31, 2025 - 10am -1pm - Community Celebration - 1421 Lansdowne Stree
 t West</p><p class="x11i5rnm xat24cr x1mh8g0r x1vvkbs xtlvy1s">We are very 
 excited to share in this milestone of 175 years of service in the&nbsp;<a h
 ref="https://www.facebook.com/hashtag/ptbo?__eep__=6&amp;__cft__[0]=AZUIcHZ
 1m6RUju_rJM6tZELwwPAcN4lDJ4FE7eB1FXljpgcsMSsdUUn_Ma0l5x00YECL91NldnB_R_LZuN
 yAX7pedqS5BI2rE_5w2ZqgPmqJd9-HOEBQjvNInfXkmYmERmMMrOmsA3mLdeqiRXno7zPD&amp;
 __tn__=q">#ptbo</a>&nbsp;community with all of you.</p><p class="x11i5rnm x
 at24cr x1mh8g0r x1vvkbs xtlvy1s">Come join us and learn about the different
  units:<br class="html-br" />- K9<br class="html-br" />- Forensics<br class
 ="html-br" />- Emergency Response Team</p><p class="x11i5rnm xat24cr x1mh8g
 0r x1vvkbs xtlvy1s">- We will also have our recruitment teams on hand learn
  about policing as a career or how you can volunteer!</p><p class="x11i5rnm
  xat24cr x1mh8g0r x1vvkbs xtlvy1s">- You can also take a trip through histo
 ry and policing in Peterborough and so much more!</p><p class="x11i5rnm xat
 24cr x1mh8g0r x1vvkbs xtlvy1s">See you there!</p>
CONTACT:Sandra Dueck
X-EXTRAINFO:https://www.peterboroughpolice.com/en/learn/175th-anniversary-community-cel
 ebration.aspx
DTSTAMP:20260423T023852
DTSTART:20250531T100000
DTEND:20250531T130000
SEQUENCE:0
TRANSP:OPAQUE
END:VEVENT
END:VCALENDAR