BEGIN:VCALENDAR
VERSION:2.0
PRODID:-//jEvents 2.0 for Joomla//EN
CALSCALE:GREGORIAN
METHOD:PUBLISH
BEGIN:VEVENT
UID:d6185b6da2ccbb9c4da8c9fdca06edd4
CATEGORIES:Community Events
CREATED:20250514T001141
SUMMARY:Fenelon Falls Horticultural Society Annual Plant Sale
LOCATION:Maryboro Lodge Museum Fenelon Falls
DESCRIPTION:Fenelon Falls Horticultural Society Annual Plant Sale.  Saturday, May 24th,
  8 a.m. to 2 p.m.  Hundreds of Plants, at least a dozen vendors.  All Plant
 s Locally grown.  All proceeds go towards helping us keep all Community Gar
 dens blooming and beautiful.  CASH ONLY\n
X-ALT-DESC;FMTTYPE=text/html:<p>Fenelon Falls Horticultural Society Annual Plant Sale.  Saturday, May 24
 th, 8 a.m. to 2 p.m.  Hundreds of Plants, at least a dozen vendors.  All Pl
 ants Locally grown.  All proceeds go towards helping us keep all Community 
 Gardens blooming and beautiful.  CASH ONLY</p>
CONTACT:Gail Henderson
DTSTAMP:20260423T024126
DTSTART:20250524T080000
DTEND:20250524T140000
SEQUENCE:0
TRANSP:OPAQUE
END:VEVENT
END:VCALENDAR