BEGIN:VCALENDAR
VERSION:2.0
PRODID:-//jEvents 2.0 for Joomla//EN
CALSCALE:GREGORIAN
METHOD:PUBLISH
BEGIN:VEVENT
UID:0bd42218539994878f0ad80393abccdc
CATEGORIES:Community Events
CREATED:20250515T133735
SUMMARY:OPP Charity BBQ for pedal for hope
LOCATION:Buckhorn Foodland
DESCRIPTION:The OPP Auxiliary are hosting a charity BBQ at the Buckhorn Foodland on May
  17 from 11AM till 2PM with all funds going to the Pedal for Hope Cops for 
 Cancer. We will be serving Hamburgers Hotdogs and fries.\n
X-ALT-DESC;FMTTYPE=text/html:<p>The OPP Auxiliary are hosting a charity BBQ at the Buckhorn Foodland on 
 May 17 from 11AM till 2PM with all funds going to the Pedal for Hope Cops f
 or Cancer. We will be serving Hamburgers Hotdogs and fries.</p>
CONTACT:Steve Vance
DTSTAMP:20260423T041552
DTSTART:20250517T110000
DTEND:20250517T140000
SEQUENCE:0
TRANSP:OPAQUE
END:VEVENT
END:VCALENDAR