BEGIN:VCALENDAR
VERSION:2.0
PRODID:-//jEvents 2.0 for Joomla//EN
CALSCALE:GREGORIAN
METHOD:PUBLISH
BEGIN:VEVENT
UID:c6313e1c1829909792c14f300a82edc2
CATEGORIES:Community Events
CREATED:20250520T122155
SUMMARY:Clash of the Chords - June 13th @ 7pm - Lindsay Armoury
LOCATION:The Lindsay Armouries 210 Kent Street West
DESCRIPTION:Clash of the Cords at the Victoria Park Armoury (210 Kent Street West in Li
 ndsay) on Friday June 13th 2025. All ages event. Support the local music sc
 ene and the area youth. Purchase your tickets through event brite: https://
 can01.safelinks.protection.outlook.com/?url=https%3A%2F%2Fwww.eventbrite.ca
 %2Fe%2Fclash-of-the-chords-tickets-1366054759559%3Faff%3Doddtdtcreator&amp;
 data=05%7C02%7Cmichael.giese%40ontario.ca%7Cb2b8879006ea4ff0d23608dd9798098
 5%7Ccddc1229ac2a4b97b78a0e5cacb5865c%7C0%7C0%7C638833402190317591%7CUnknown
 %7CTWFpbGZsb3d8eyJFbXB0eU1hcGkiOnRydWUsIlYiOiIwLjAuMDAwMCIsIlAiOiJXaW4zMiIs
 IkFOIjoiTWFpbCIsIldUIjoyfQ%3D%3D%7C80000%7C%7C%7C&amp;sdata=waRixpEmFoKVL1p
 Pp1Vw0JGGllsJKpLFRr3Bkc2yiwA%3D&amp;reserved=0 \n \n
X-ALT-DESC;FMTTYPE=text/html:<p>Clash of the Cords at the Victoria Park Armoury (210 Kent Street West in
  Lindsay) on Friday June 13th 2025. All ages event. Support the local music
  scene and the area youth. Purchase your tickets through event brite: <a ti
 tle="Clash of the Chords event brite" href="https://can01.safelinks.protect
 ion.outlook.com/?url=https%3A%2F%2Fwww.eventbrite.ca%2Fe%2Fclash-of-the-cho
 rds-tickets-1366054759559%3Faff%3Doddtdtcreator&amp;data=05%7C02%7Cmichael.
 giese%40ontario.ca%7Cb2b8879006ea4ff0d23608dd97980985%7Ccddc1229ac2a4b97b78
 a0e5cacb5865c%7C0%7C0%7C638833402190317591%7CUnknown%7CTWFpbGZsb3d8eyJFbXB0
 eU1hcGkiOnRydWUsIlYiOiIwLjAuMDAwMCIsIlAiOiJXaW4zMiIsIkFOIjoiTWFpbCIsIldUIjo
 yfQ%3D%3D%7C80000%7C%7C%7C&amp;sdata=waRixpEmFoKVL1pPp1Vw0JGGllsJKpLFRr3Bkc
 2yiwA%3D&amp;reserved=0">https://can01.safelinks.protection.outlook.com/?ur
 l=https%3A%2F%2Fwww.eventbrite.ca%2Fe%2Fclash-of-the-chords-tickets-1366054
 759559%3Faff%3Doddtdtcreator&amp;data=05%7C02%7Cmichael.giese%40ontario.ca%
 7Cb2b8879006ea4ff0d23608dd97980985%7Ccddc1229ac2a4b97b78a0e5cacb5865c%7C0%7
 C0%7C638833402190317591%7CUnknown%7CTWFpbGZsb3d8eyJFbXB0eU1hcGkiOnRydWUsIlY
 iOiIwLjAuMDAwMCIsIlAiOiJXaW4zMiIsIkFOIjoiTWFpbCIsIldUIjoyfQ%3D%3D%7C80000%7
 C%7C%7C&amp;sdata=waRixpEmFoKVL1pPp1Vw0JGGllsJKpLFRr3Bkc2yiwA%3D&amp;reserv
 ed=0 </a></p><p> </p>
CONTACT:https://can01.safelinks.protection.outlook.com/?url=https%3A%2F%2Fwww.eventbrite.ca%2Fe%2Fclash-of-the-chords-tickets-13
DTSTAMP:20260423T072716
DTSTART:20250613T190000
DTEND:20250613T230000
SEQUENCE:0
TRANSP:OPAQUE
END:VEVENT
END:VCALENDAR