BEGIN:VCALENDAR
VERSION:2.0
PRODID:-//jEvents 2.0 for Joomla//EN
CALSCALE:GREGORIAN
METHOD:PUBLISH
BEGIN:VEVENT
UID:3c6891504a6181db562dd3c3ef0bd501
CATEGORIES:Community Events
CREATED:20250522T174859
SUMMARY:Globus Theatre Presents: Girls Nite Out
LOCATION:Globus Theatre Bobcaygeon
DESCRIPTION:Girls Nite Out is an all female, all funny stand-up and improv comedy ensem
 ble featuring CBC darlings and Canadian Comedy Award Winners. The Girls Nit
 e Out show originated here 17 years ago and has since toured across Canada 
 to great acclaim.\nKicking off 2025 with a bang, these fabulous ladies took
  Ontario by storm with a nine-show tour, delivering unstoppable laughter to
  packed audiences! This one night only event will be sure to sell out, so d
 on't miss this opportunity to grab the girlfriends and come for a giggle! \
 n
X-ALT-DESC;FMTTYPE=text/html:<p class="preFlex flexIn"><em>Girls Nite Out</em> is an all female, all fun
 ny stand-up and improv comedy ensemble featuring CBC darlings and Canadian 
 Comedy Award Winners. The Girls Nite Out show originated <strong><em>here</
 em></strong> 17 years ago and has since toured across Canada to great accla
 im.</p><p class="preFlex flexIn">Kicking off 2025 with a bang, these fabulo
 us ladies took Ontario by storm with a nine-show tour, delivering unstoppab
 le laughter to packed audiences! This one night only event will be sure to 
 sell out, so don't miss this opportunity to grab the girlfriends and come f
 or a giggle! </p>
DTSTAMP:20260423T072603
DTSTART:20250613T080000
DTEND:20250613T230000
SEQUENCE:0
TRANSP:OPAQUE
END:VEVENT
END:VCALENDAR