BEGIN:VCALENDAR
VERSION:2.0
PRODID:-//jEvents 2.0 for Joomla//EN
CALSCALE:GREGORIAN
METHOD:PUBLISH
BEGIN:VEVENT
UID:18b124b8b49626f1adfccef93175ba88
CATEGORIES:Community Events
CREATED:20250522T201824
SUMMARY:Globus Theatre Presents: Johnny & June; Live Concert
LOCATION:2300 Pigeon Lake Road
DESCRIPTION:A hand-clapping, foot-stomping tribute from Chris McHarge &amp; Colin Stewa
 rt!\n \nJohnny &amp; June is a superb live concert, and a tribute to the go
 lden age of country music. Featuring a live band performing the iconic hits
  of Johnny Cash and June Carter Cash audiences are treated to a glimpse int
 o the legendary love story that inspired their music. The show follows the 
 Man in Black’s journey from Folsom Prison to the Grand Ole Opry stage. From
  Walk the Line to A Boy Named Sue and everything in between, you'll be sure
  to experience the magic of this country duo's music, leaving you humming R
 ing of Fire long after the show ends.\n \nShowtimes:\nOctober 23 - 2pm and 
 8pm\nOctober 24 - 8pm\nOctober 25 - 2pm and 8pm\n \nTicket Prices:\nTheatre
  $50 +HST\nDinner and Theatre $100 +HST\n \nBook tickets by calling our box
  office 705 738 2037 or online at globustheatre.com (https://l.facebook.com
 /l.php?u=http%3A%2F%2Fglobustheatre.com%2F%3Ffbclid%3DIwZXh0bgNhZW0CMTAAYnJ
 pZBExMWpja1dISW0yQWdrOUt4aQEe4OPUwm6mPoT18ZoiD1ZgJHkoys2evex9194IkMwTh_IUV-
 XFVVe5f2oNN-A_aem_jd-Ecf2SMygVOHs8Au_Cng&amp;h=AT3N9I_hze56rArb4XeqD1pIz0FQ
 arth3VLNiFLaC8K5bx-zpvNOoNLhmWY4UnjppVPLGE9L3QOIRR3SZG0tByyG5-anD7AfrLP1omW
 7-aBMqYrt4UVTxcOzy1wbCQA_uh_uTUrV3iXT6fe2&amp;__tn__=q)\nThank you to our s
 how sponsor MC Contracting\n
X-ALT-DESC;FMTTYPE=text/html:<p>A hand-clapping, foot-stomping tribute from Chris McHarge &amp; Colin St
 ewart!</p><p>&nbsp;</p><p>Johnny &amp; June is a superb live concert, and a
  tribute to the golden age of country music. Featuring a live band performi
 ng the iconic hits of Johnny Cash and June Carter Cash audiences are treate
 d to a glimpse into the legendary love story that inspired their music. The
  show follows the Man in Black’s journey from Folsom Prison to the Grand Ol
 e Opry stage. From Walk the Line to A Boy Named Sue and everything in betwe
 en, you'll be sure to experience the magic of this country duo's music, lea
 ving you humming Ring of Fire long after the show ends.</p><p>&nbsp;</p><p>
 Showtimes:<br />October 23 - 2pm and 8pm<br />October 24 - 8pm<br />October
  25 - 2pm and 8pm</p><p>&nbsp;</p><p>Ticket Prices:<br />Theatre $50 +HST<b
 r />Dinner and Theatre $100 +HST</p><p>&nbsp;</p><p>Book tickets by calling
  our box office 705 738 2037 or online at&nbsp;<a href="https://l.facebook.
 com/l.php?u=http%3A%2F%2Fglobustheatre.com%2F%3Ffbclid%3DIwZXh0bgNhZW0CMTAA
 YnJpZBExMWpja1dISW0yQWdrOUt4aQEe4OPUwm6mPoT18ZoiD1ZgJHkoys2evex9194IkMwTh_I
 UV-XFVVe5f2oNN-A_aem_jd-Ecf2SMygVOHs8Au_Cng&amp;h=AT3N9I_hze56rArb4XeqD1pIz
 0FQarth3VLNiFLaC8K5bx-zpvNOoNLhmWY4UnjppVPLGE9L3QOIRR3SZG0tByyG5-anD7AfrLP1
 omW7-aBMqYrt4UVTxcOzy1wbCQA_uh_uTUrV3iXT6fe2&amp;__tn__=q" target="_blank" 
 rel="nofollow noopener noreferrer" tabindex="0" role="link">globustheatre.c
 om</a></p><p>Thank you to our show sponsor MC Contracting</p>
DTSTAMP:20260423T041710
DTSTART;VALUE=DATE:20251023
DTEND;VALUE=DATE:20251024
SEQUENCE:0
TRANSP:OPAQUE
END:VEVENT
END:VCALENDAR