BEGIN:VCALENDAR
VERSION:2.0
PRODID:-//jEvents 2.0 for Joomla//EN
CALSCALE:GREGORIAN
METHOD:PUBLISH
BEGIN:VEVENT
UID:f24f54cb3c97ea801fe363b9361c5bd9
CATEGORIES:Community Events
CREATED:20250522T201947
SUMMARY:Globus Theatre Presents: The Little Balls Falls Christmas Fete (ality)
LOCATION:2300 Pigeon Lake Road
DESCRIPTION:Festive Murder Mystery Dinner Theatre Experience\n \nLittle Balls Falls is 
 a quaint, rural town, and its Christmas celebrations attract visitors from 
 miles around. There are treats a-plenty, traditions abound, and neighbours 
 compete to see whose holiday decorations are the brightest and most beautif
 ul on the block. But this year, the most wonderful time is about to change 
 as rivalries spiral, family feuds fester, and it's lights out for somebody.
  Help us solve the mystery... or the future of this fete is doomed.\n \nSho
 wtimes:\nNovember 13 - 6:30\nNovember 14 - 6:30\nNovember 15 - 6:30\nNovemb
 er 20 - 6:30\nNovember 21 - 6:30\nNovember 22 - 6:30\nTicket Prices:\nTheat
 re $50 +HST\nDinner and Theatre $100 +HST\n \nBook tickets by calling our b
 ox office 705 738 2037 or online at globustheatre.com (https://l.facebook.c
 om/l.php?u=http%3A%2F%2Fglobustheatre.com%2F%3Ffbclid%3DIwZXh0bgNhZW0CMTAAY
 nJpZBExMWpja1dISW0yQWdrOUt4aQEe4OPUwm6mPoT18ZoiD1ZgJHkoys2evex9194IkMwTh_IU
 V-XFVVe5f2oNN-A_aem_jd-Ecf2SMygVOHs8Au_Cng&amp;h=AT3OmmHaHB3d26jMCDiw1naqdv
 Am-lpeCJ2JATbYyCPql7EMjI8DP6MBQpbxbXu0LtCuwjDF6WzckFChQQnADla4ymRdbkXxD2AO9
 Zp3DcYqCwimEyOZ92CfOahYUXLOClj8ULTAPTUqZDVR&amp;__tn__=q)\nThank you to our
  show sponsor Old Dog Brewing Co. \n
X-ALT-DESC;FMTTYPE=text/html:<p>Festive Murder Mystery Dinner Theatre Experience</p><p>&nbsp;</p><p>Litt
 le Balls Falls is a quaint, rural town, and its Christmas celebrations attr
 act visitors from miles around. There are treats a-plenty, traditions aboun
 d, and neighbours compete to see whose holiday decorations are the brightes
 t and most beautiful on the block. But this year, the most wonderful time i
 s about to change as rivalries spiral, family feuds fester, and it's lights
  out for somebody. Help us solve the mystery... or the future of this fete 
 is doomed.</p><p>&nbsp;</p><p>Showtimes:<br />November 13 - 6:30<br />Novem
 ber 14 - 6:30<br />November 15 - 6:30<br />November 20 - 6:30<br />November
  21 - 6:30<br />November 22 - 6:30</p><p>Ticket Prices:<br />Theatre $50 +H
 ST<br />Dinner and Theatre $100 +HST</p><p>&nbsp;</p><p>Book tickets by cal
 ling our box office 705 738 2037 or online at&nbsp;<a href="https://l.faceb
 ook.com/l.php?u=http%3A%2F%2Fglobustheatre.com%2F%3Ffbclid%3DIwZXh0bgNhZW0C
 MTAAYnJpZBExMWpja1dISW0yQWdrOUt4aQEe4OPUwm6mPoT18ZoiD1ZgJHkoys2evex9194IkMw
 Th_IUV-XFVVe5f2oNN-A_aem_jd-Ecf2SMygVOHs8Au_Cng&amp;h=AT3OmmHaHB3d26jMCDiw1
 naqdvAm-lpeCJ2JATbYyCPql7EMjI8DP6MBQpbxbXu0LtCuwjDF6WzckFChQQnADla4ymRdbkXx
 D2AO9Zp3DcYqCwimEyOZ92CfOahYUXLOClj8ULTAPTUqZDVR&amp;__tn__=q" target="_bla
 nk" rel="nofollow noopener noreferrer" tabindex="0" role="link">globustheat
 re.com</a></p><p>Thank you to our show sponsor Old Dog Brewing Co.&nbsp;</p
 >
DTSTAMP:20260423T074500
DTSTART:20251113T183000
SEQUENCE:0
TRANSP:OPAQUE
END:VEVENT
END:VCALENDAR