BEGIN:VCALENDAR
VERSION:2.0
PRODID:-//jEvents 2.0 for Joomla//EN
CALSCALE:GREGORIAN
METHOD:PUBLISH
BEGIN:VEVENT
UID:13e68b698d1fbad2b7b7c6d1304118fe
CATEGORIES:Community Events
CREATED:20250522T202111
SUMMARY:Globus Theatre Presents: Jack and the Beanstalk
LOCATION:2300 Pigeon Lake Road
DESCRIPTION:A Traditional British Panto by Sarah Quick\n \nFull of laughter, songs, and
  audience participation!\nDame Trott and her son Jack are facing financial 
 ruin. To pay the rent they will have to sell their beloved cow Patty. Inste
 ad Jack swaps Patty for a handful of beans and the resulting beanstalk brin
 gs more problems in the shape of a not-so-friendly giant…\nA comic retellin
 g of the classic tale that is fun for adults and children alike!\n \nShowti
 mes:\nDecember 3 - school show\nDecember 4 - school show\nDecember 5 - 7pm\
 nDecember 6 - 2pm and 8pm\nDecember 7 - 2pm\nDecember 9 - school show\nDece
 mber 10 - school show\nDecember 11 - school show\nDecember 12 - 8pm\nDecemb
 er 13 - 2pm and 8pm\nDecember 14 - 2pm\nDecember 16 - school show\nDecember
  17 - school show\n \nTickets:\nTheatre Adult $35\nTheatre 12 and Under $22
 .50\nDinner and Theatre Adult $85\nDinner and Theatre 10 and Under $42.50\n
  \nBook tickets by calling our box office 705 738 2037 or online at globust
 heatre.com (https://l.facebook.com/l.php?u=http%3A%2F%2Fglobustheatre.com%2
 F%3Ffbclid%3DIwZXh0bgNhZW0CMTAAYnJpZBExMWpja1dISW0yQWdrOUt4aQEeYZ0Hgo9PUA3Q
 48TAycHDnJPrZk2UMHcj7nl38h8oKs_LsQwgGs9zsESSmWY_aem_WnqUEd7UBVJO2wn_QeriUA&
 amp;h=AT1brsJJvGjA5soeT4iA0wyHi9fWkPR0swP2eqZxIkHQyRyTwSFOn1dG-6UindkH0rE4q
 kxY7ZqiWkOIB-xYyQTRhiRRgc7zZKqPvjxBMWepP2QcaY8VZU3dzO6pymXo3GtRRyaz7W4uwMqr
 &amp;__tn__=q)\nThank you to our show sponsors Handley Lumber, Wilcox Archi
 tects Inc, and Tina Doyle - Remax Realtor\n
X-ALT-DESC;FMTTYPE=text/html:<p>A Traditional British Panto by Sarah Quick</p><p>&nbsp;</p><p>Full of la
 ughter, songs, and audience participation!</p><p>Dame Trott and her son Jac
 k are facing financial ruin. To pay the rent they will have to sell their b
 eloved cow Patty. Instead Jack swaps Patty for a handful of beans and the r
 esulting beanstalk brings more problems in the shape of a not-so-friendly g
 iant…</p><p>A comic retelling of the classic tale that is fun for adults an
 d children alike!</p><p>&nbsp;</p><p>Showtimes:<br />December 3 - school sh
 ow<br />December 4 - school show</p><p>December 5 - 7pm<br />December 6 - 2
 pm and 8pm<br />December 7 - 2pm</p><p>December 9 - school show<br />Decemb
 er 10 - school show<br />December 11 - school show</p><p>December 12 - 8pm<
 br />December 13 - 2pm and 8pm<br />December 14 - 2pm</p><p>December 16 - s
 chool show<br />December 17 - school show</p><p>&nbsp;</p><p>Tickets:<br />
 Theatre Adult $35<br />Theatre 12 and Under $22.50</p><p>Dinner and Theatre
  Adult $85<br />Dinner and Theatre 10 and Under $42.50</p><p>&nbsp;</p><p>B
 ook tickets by calling our box office 705 738 2037 or online at&nbsp;<a hre
 f="https://l.facebook.com/l.php?u=http%3A%2F%2Fglobustheatre.com%2F%3Ffbcli
 d%3DIwZXh0bgNhZW0CMTAAYnJpZBExMWpja1dISW0yQWdrOUt4aQEeYZ0Hgo9PUA3Q48TAycHDn
 JPrZk2UMHcj7nl38h8oKs_LsQwgGs9zsESSmWY_aem_WnqUEd7UBVJO2wn_QeriUA&amp;h=AT1
 brsJJvGjA5soeT4iA0wyHi9fWkPR0swP2eqZxIkHQyRyTwSFOn1dG-6UindkH0rE4qkxY7ZqiWk
 OIB-xYyQTRhiRRgc7zZKqPvjxBMWepP2QcaY8VZU3dzO6pymXo3GtRRyaz7W4uwMqr&amp;__tn
 __=q" target="_blank" rel="nofollow noopener noreferrer" tabindex="0" role=
 "link">globustheatre.com</a></p><p>Thank you to our show sponsors Handley L
 umber, Wilcox Architects Inc, and Tina Doyle - Remax Realtor</p>
DTSTAMP:20260422T163331
DTSTART;VALUE=DATE:20251203
DTEND;VALUE=DATE:20251204
SEQUENCE:0
TRANSP:OPAQUE
END:VEVENT
END:VCALENDAR