BEGIN:VCALENDAR
VERSION:2.0
PRODID:-//jEvents 2.0 for Joomla//EN
CALSCALE:GREGORIAN
METHOD:PUBLISH
BEGIN:VEVENT
UID:65a6be4d4943d0b7c72770a0389d44a1
CATEGORIES:Community Events
CREATED:20250522T174353
SUMMARY:Globus Theatre Presents: Despereate to be Doris
LOCATION:Globus Theatre Bobcaygeon
DESCRIPTION:Desperate to be Doris\nby Sue Ryding &amp; Maggie Fox\n \nCanadian Premiere
  Dean spends his days working at a mail-order pajama company, but at night 
 he’s a legend in his living room, singing like the great Doris Day.\nWhen h
 is operatic society decides to stage Calamity Jane, Dean wonders if this co
 uld be his moment to truly shine.\nWith the backdrop of some of Doris Day’s
  greatest hits, this comedy is a humorous tale of self-discovery, courage, 
 and the power of following your dreams.\n
X-ALT-DESC;FMTTYPE=text/html:<p><strong>Desperate to be Doris</strong></p><p>by Sue Ryding &amp; Maggie 
 Fox</p><p>&nbsp;</p><p>Canadian Premiere Dean spends his days working at a 
 mail-order pajama company, but at night he’s a legend in his living room, s
 inging like the great Doris Day.</p><p>When his operatic society decides to
  stage Calamity Jane, Dean wonders if this could be his moment to truly shi
 ne.</p><p>With the backdrop of some of Doris Day’s greatest hits, this come
 dy is a humorous tale of self-discovery, courage, and the power of followin
 g your dreams.</p>
DTSTAMP:20260423T023843
DTSTART:20250605T200000
SEQUENCE:0
TRANSP:OPAQUE
END:VEVENT
END:VCALENDAR