BEGIN:VCALENDAR
VERSION:2.0
PRODID:-//jEvents 2.0 for Joomla//EN
CALSCALE:GREGORIAN
METHOD:PUBLISH
BEGIN:VEVENT
UID:a1beb6e73c31ffe3fffa71155a16926f
CATEGORIES:Community Events
CREATED:20250522T200425
SUMMARY:Globus Theatre Presents: Come Down from Up River
LOCATION:2300 Pigeon Lake Road 
DESCRIPTION:Come Down from Up River by Norm Foster!\n \nShaver Bennett has spent most o
 f his life in solitude, working as a logger in the forests of New Brunswick
 . After two decades apart, he unexpectedly shows up at the city home of his
  estranged sister's daughter. His niece, Bonnie, having no fond memories of
  her uncle, worries about introducing him back into her life...and to her w
 ife, Liv.\n \nWhat follows is a hilarious and tender story of reconnection.
 \n \nShowtimes:\nJune 25 - 8pm\nJune 26 - 8pm\nJune 27 - 8pm\nJune 28 - 2pm
  and 8pm\nJuly 2 - 8pm\nJuly 3 - 2pm and 8pm\nJuly 4 - 8pm\nJuly 5 - 8pm\n 
 \nTicket Prices:\nTheatre $50 +HST\nDinner and Theatre $100 +HST\nBook tick
 ets by calling our box office 705 738 2037 or online at globustheatre.com (
 https://l.facebook.com/l.php?u=http%3A%2F%2Fglobustheatre.com%2F%3Ffbclid%3
 DIwZXh0bgNhZW0CMTAAYnJpZBExMWpja1dISW0yQWdrOUt4aQEeYZ0Hgo9PUA3Q48TAycHDnJPr
 Zk2UMHcj7nl38h8oKs_LsQwgGs9zsESSmWY_aem_WnqUEd7UBVJO2wn_QeriUA&amp;h=AT0XQS
 fJMdvbpna-2Cx98iXaSm3W0FhH4ihP48OP6ZSw6AMhfZT1Bb2tNaQrqJ9W27f78ZD1TiFpylzVp
 FNnNwdUvZvpL_yR_awg9dbqgFFWvYcpCl2Yl672EdNMwc-x5cMMl3uOYFwBeFS0&amp;__tn__=
 q)\n \nThank you to show sponsor British Empire Fuels\n
X-ALT-DESC;FMTTYPE=text/html:<p>Come Down from Up River by Norm Foster!</p><p>&nbsp;</p><p>Shaver Bennet
 t has spent most of his life in solitude, working as a logger in the forest
 s of New Brunswick. After two decades apart, he unexpectedly shows up at th
 e city home of his estranged sister's daughter. His niece, Bonnie, having n
 o fond memories of her uncle, worries about introducing him back into her l
 ife...and to her wife, Liv.</p><p>&nbsp;</p><p>What follows is a hilarious 
 and tender story of reconnection.</p><p>&nbsp;</p><p>Showtimes:<br />June 2
 5 - 8pm<br />June 26 - 8pm<br />June 27 - 8pm<br />June 28 - 2pm and 8pm<br
  />July 2 - 8pm<br />July 3 - 2pm and 8pm<br />July 4 - 8pm<br />July 5 - 8
 pm</p><p>&nbsp;</p><p>Ticket Prices:<br />Theatre $50 +HST<br />Dinner and 
 Theatre $100 +HST</p><p>Book tickets by calling our box office 705 738 2037
  or online at&nbsp;<a href="https://l.facebook.com/l.php?u=http%3A%2F%2Fglo
 bustheatre.com%2F%3Ffbclid%3DIwZXh0bgNhZW0CMTAAYnJpZBExMWpja1dISW0yQWdrOUt4
 aQEeYZ0Hgo9PUA3Q48TAycHDnJPrZk2UMHcj7nl38h8oKs_LsQwgGs9zsESSmWY_aem_WnqUEd7
 UBVJO2wn_QeriUA&amp;h=AT0XQSfJMdvbpna-2Cx98iXaSm3W0FhH4ihP48OP6ZSw6AMhfZT1B
 b2tNaQrqJ9W27f78ZD1TiFpylzVpFNnNwdUvZvpL_yR_awg9dbqgFFWvYcpCl2Yl672EdNMwc-x
 5cMMl3uOYFwBeFS0&amp;__tn__=q" target="_blank" rel="nofollow noopener noref
 errer" tabindex="0" role="link">globustheatre.com</a></p><p>&nbsp;</p><p>Th
 ank you to show sponsor British Empire Fuels</p>
DTSTAMP:20260423T010752
DTSTART:20250626T200000
SEQUENCE:0
TRANSP:OPAQUE
END:VEVENT
END:VCALENDAR