BEGIN:VCALENDAR
VERSION:2.0
PRODID:-//jEvents 2.0 for Joomla//EN
CALSCALE:GREGORIAN
METHOD:PUBLISH
BEGIN:VEVENT
UID:b9854f76292c55bb0fb25710ab576118
CATEGORIES:Community Events
CREATED:20250522T200633
SUMMARY:Globus Theatre Presents: Hookup
LOCATION:2300 Pigeon Lake Road
DESCRIPTION:Hookup by Paul Bates\n \nAfter a fantastically successful run at the Factor
 y Theatre in Toronto, Globus is excited to welcome this stellar cast of Can
 ada's most hilarious (and yes, dreamiest!) improvisers.  Hookup takes the q
 uirks, passions, and deal-breakers of random audience members and spins the
 m into a completely unscripted romantic comedy, from awkward first encounte
 rs to fiery breakups and unexpected reunions.\n \nHookup guarantees big lau
 ghs, surprising twists, and maybe even a little bit of love. Whether you're
  single, taken, or somewhere in between, this show is the perfect night out
 .\n \nShowtimes:\nJuly 10 - 8pm\nJuly 11 - 8pm\nJuly 12 - 8pm\n \nTickets:\
 nTheatre $50 +HST\nDinner and Theatre $100 +HST\n \nBook tickets by calling
  our box office 705 738 2037 or online at globustheatre.com (https://l.face
 book.com/l.php?u=http%3A%2F%2Fglobustheatre.com%2F%3Ffbclid%3DIwZXh0bgNhZW0
 CMTAAYnJpZBExMWpja1dISW0yQWdrOUt4aQEejt4GuZDgXAlwc3wh53LB9N9ZLo5jRQfKiVxEpr
 lW7NZM3NoizHDuVvPg-VU_aem_nr9KlNOfQwzua78MLd52Bg&amp;h=AT3dygcZGvlAufAhyf4C
 tjy5pfzVaZLuBh2zA7W2m9N2et89BI6CJqKqzsD9oYoiKytthtHFTvw9Va-2HaELFvTDlpOjNf5
 kAXcnEqDRwxFG5eec0t_nlG7fGxfbhralTiM625YkowXcotDs&amp;__tn__=q)\nThank you 
 to this show's sponsor Wilcox Architects\n
X-ALT-DESC;FMTTYPE=text/html:<p>Hookup by Paul Bates</p><p>&nbsp;</p><p>After a fantastically successful
  run at the Factory Theatre in Toronto, Globus is excited to welcome this s
 tellar cast of Canada's most hilarious (and yes, dreamiest!) improvisers.&n
 bsp; Hookup takes the quirks, passions, and deal-breakers of random audienc
 e members and spins them into a completely unscripted romantic comedy, from
  awkward first encounters to fiery breakups and unexpected reunions.</p><p>
 &nbsp;</p><p>Hookup guarantees big laughs, surprising twists, and maybe eve
 n a little bit of love. Whether you're single, taken, or somewhere in betwe
 en, this show is the perfect night out.</p><p>&nbsp;</p><p>Showtimes:<br />
 July 10 - 8pm<br />July 11 - 8pm<br />July 12 - 8pm</p><p>&nbsp;</p><p>Tick
 ets:<br />Theatre $50 +HST<br />Dinner and Theatre $100 +HST</p><p>&nbsp;</
 p><p>Book tickets by calling our box office 705 738 2037 or online at&nbsp;
 <a href="https://l.facebook.com/l.php?u=http%3A%2F%2Fglobustheatre.com%2F%3
 Ffbclid%3DIwZXh0bgNhZW0CMTAAYnJpZBExMWpja1dISW0yQWdrOUt4aQEejt4GuZDgXAlwc3w
 h53LB9N9ZLo5jRQfKiVxEprlW7NZM3NoizHDuVvPg-VU_aem_nr9KlNOfQwzua78MLd52Bg&amp
 ;h=AT3dygcZGvlAufAhyf4Ctjy5pfzVaZLuBh2zA7W2m9N2et89BI6CJqKqzsD9oYoiKytthtHF
 Tvw9Va-2HaELFvTDlpOjNf5kAXcnEqDRwxFG5eec0t_nlG7fGxfbhralTiM625YkowXcotDs&am
 p;__tn__=q" target="_blank" rel="nofollow noopener noreferrer" tabindex="0"
  role="link">globustheatre.com</a></p><p>Thank you to this show's sponsor W
 ilcox Architects</p>
DTSTAMP:20260423T093514
DTSTART:20250711T200000
SEQUENCE:0
TRANSP:OPAQUE
END:VEVENT
END:VCALENDAR