BEGIN:VCALENDAR
VERSION:2.0
PRODID:-//jEvents 2.0 for Joomla//EN
CALSCALE:GREGORIAN
METHOD:PUBLISH
BEGIN:VEVENT
UID:f9b9937068cfb6526dab29ef660da593
CATEGORIES:Community Events
CREATED:20250522T200919
SUMMARY:Globus Theatre Presents: Murder at the Blue Moon Saloon
LOCATION:2300 Pigeon Lake Road
DESCRIPTION:A Western-style, drink-slinging, boot-scootin' Murder Mystery experience.\n
  \nEvery cowboy knows the rootin’ tootin'-est bar this side of the Mississa
 uga River is The Blue Moon Saloon. There's drinks and good times a plenty! 
 But one buckaroo is about to make themselves as welcome as a rattlesnake at
  a square-dance by committing murder. Nobody thought that's how this hoedow
 n would go down. We need a new sheriff in town to solve the mystery, one th
 at's not all hat and no horse!...could it be you?\n \nShowtimes:\nJuly 16 -
  6:30pm\nJuly - 17 - 6:30pm\nJuly 18 - 6:30pm\nJuly 19 - 12:30pm and 6:30pm
 \nJuly 23 - 6:30pm\nJuly 24 - 6:30pm\nJuly 25 - 6:30pm\nJuly 26 - 6:30pm\n 
 \nTicket Prices:\nDinner Theatre $100 +HST\n \nBook tickets by calling our 
 box office 705 738 2037 or online at globustheatre.com (https://l.facebook.
 com/l.php?u=http%3A%2F%2Fglobustheatre.com%2F%3Ffbclid%3DIwZXh0bgNhZW0CMTAA
 YnJpZBExMWpja1dISW0yQWdrOUt4aQEezvW2xPqSB7tRq3zoxA9tqjp4NUies8dMyolAWpysuCo
 trTCNWUf94uO41ag_aem_iDJLTHRncwtYCuXlGRO5xg&amp;h=AT1asW8g0ZXwYxDge_nWq3dtv
 kVX2yAsmP2NFQlYDH6palL0vmtbG525_bWe96-Nh6rOe_oUXWwK8DLnsrRZ8UonOm7ux28YjMU8
 DnIAZ6r5Lf8dROrvL4_KSuQlAYSU3ataySWIL5MjnVdM&amp;__tn__=q)\nThank you to ou
 r sponsor RJ Brown Insurance Broker Inc.\n
X-ALT-DESC;FMTTYPE=text/html:<p>A Western-style, drink-slinging, boot-scootin' Murder Mystery experience
 .</p><p>&nbsp;</p><p>Every cowboy knows the rootin’ tootin'-est bar this si
 de of the Mississauga River is The Blue Moon Saloon. There's drinks and goo
 d times a plenty! But one buckaroo is about to make themselves as welcome a
 s a rattlesnake at a square-dance by committing murder. Nobody thought that
 's how this hoedown would go down. We need a new sheriff in town to solve t
 he mystery, one that's not all hat and no horse!...could it be you?</p><p>&
 nbsp;</p><p>Showtimes:<br />July 16 - 6:30pm<br />July - 17 - 6:30pm<br />J
 uly 18 - 6:30pm<br />July 19 - 12:30pm and 6:30pm<br />July 23 - 6:30pm<br 
 />July 24 - 6:30pm<br />July 25 - 6:30pm<br />July 26 - 6:30pm</p><p>&nbsp;
 </p><p>Ticket Prices:<br />Dinner Theatre $100 +HST</p><p>&nbsp;</p><p>Book
  tickets by calling our box office 705 738 2037 or online at&nbsp;<a href="
 https://l.facebook.com/l.php?u=http%3A%2F%2Fglobustheatre.com%2F%3Ffbclid%3
 DIwZXh0bgNhZW0CMTAAYnJpZBExMWpja1dISW0yQWdrOUt4aQEezvW2xPqSB7tRq3zoxA9tqjp4
 NUies8dMyolAWpysuCotrTCNWUf94uO41ag_aem_iDJLTHRncwtYCuXlGRO5xg&amp;h=AT1asW
 8g0ZXwYxDge_nWq3dtvkVX2yAsmP2NFQlYDH6palL0vmtbG525_bWe96-Nh6rOe_oUXWwK8DLns
 rRZ8UonOm7ux28YjMU8DnIAZ6r5Lf8dROrvL4_KSuQlAYSU3ataySWIL5MjnVdM&amp;__tn__=
 q" target="_blank" rel="nofollow noopener noreferrer" tabindex="0" role="li
 nk">globustheatre.com</a></p><p>Thank you to our sponsor RJ Brown Insurance
  Broker Inc.</p>
DTSTAMP:20260422T233651
DTSTART:20250725T183000
SEQUENCE:0
TRANSP:OPAQUE
END:VEVENT
END:VCALENDAR