BEGIN:VCALENDAR
VERSION:2.0
PRODID:-//jEvents 2.0 for Joomla//EN
CALSCALE:GREGORIAN
METHOD:PUBLISH
BEGIN:VEVENT
UID:52ce9123bae08558137e166aadab1d9a
CATEGORIES:Community Events
CREATED:20250522T201159
SUMMARY:Globus Theatre Presents: The Comeback
LOCATION:2300 Pigeon Lake Road
DESCRIPTION:Canadian Premiere of The Comeback by Ben Ashenden &amp; Alex Owen!\n \nA wa
 rm-hearted, joyful, and dazzlingly funny new comedy.\nTwo up-and-coming com
 ics have been booked in the warm-up spot for a much beloved but fading-fast
  double-act’s comeback tour. Neither is delighted to be playing to a sparse
  crowd in a sleepy town—but when it’s revealed that a Hollywood director is
  in the audience, both acts glimpse a final chance for their big break. Cue
  sabotage, mistaken identity and full-on farcical mayhem, as the performanc
 e descends into a desperate battle for the limelight. The Comeback is a hea
 rt-warming exploration of bittersweet nostalgia and the enduring power of f
 riendship.\n \nShowtimes:\nJuly 30 - 8pm\nJuly 31 - 8pm\nAugust 1 - 8pm\nAu
 gust 2 - 2pm and 8pm\nAugust 5 - 8pm\nAugust 6 - 8pm\nAugust 7 - 2pm and 8p
 m\nAugust 8 - 8pm\nAugust 9 - 8pm\n \nTicket Prices:\nTheatre $50 +HST\nDin
 ner and Theatre $100 +HST\n \nBook tickets by calling our box office 705 73
 8 2037 or online at globustheatre.com (https://l.facebook.com/l.php?u=http%
 3A%2F%2Fglobustheatre.com%2F%3Ffbclid%3DIwZXh0bgNhZW0CMTAAYnJpZBExMWpja1dIS
 W0yQWdrOUt4aQEezvW2xPqSB7tRq3zoxA9tqjp4NUies8dMyolAWpysuCotrTCNWUf94uO41ag_
 aem_iDJLTHRncwtYCuXlGRO5xg&amp;h=AT0yqHLDLTK731No86JzUgX-1I7rLj32UD1hCn-BqP
 JWXqH3-vEZfILKlAIpIv37-xGmSAPkfpZIMo4DRNijX9Dl3sDUmNwZCy6JaG1WlPYgaugXwo0_2
 _GlTdbYP4bwuavAKOjDt633KQp5&amp;__tn__=q)\nThank you to our show sponsor Ha
 ndley Lumber\n
X-ALT-DESC;FMTTYPE=text/html:<p>Canadian Premiere of The Comeback by Ben Ashenden &amp; Alex Owen!</p><p
 >&nbsp;</p><p>A warm-hearted, joyful, and dazzlingly funny new comedy.</p><
 p>Two up-and-coming comics have been booked in the warm-up spot for a much 
 beloved but fading-fast double-act’s comeback tour. Neither is delighted to
  be playing to a sparse crowd in a sleepy town—but when it’s revealed that 
 a Hollywood director is in the audience, both acts glimpse a final chance f
 or their big break. Cue sabotage, mistaken identity and full-on farcical ma
 yhem, as the performance descends into a desperate battle for the limelight
 . The Comeback is a heart-warming exploration of bittersweet nostalgia and 
 the enduring power of friendship.</p><p>&nbsp;</p><p>Showtimes:<br />July 3
 0 - 8pm<br />July 31 - 8pm<br />August 1 - 8pm<br />August 2 - 2pm and 8pm<
 br />August 5 - 8pm<br />August 6 - 8pm<br />August 7 - 2pm and 8pm<br />Au
 gust 8 - 8pm<br />August 9 - 8pm</p><p>&nbsp;</p><p>Ticket Prices:<br />The
 atre $50 +HST<br />Dinner and Theatre $100 +HST</p><p>&nbsp;</p><p>Book tic
 kets by calling our box office 705 738 2037 or online at&nbsp;<a href="http
 s://l.facebook.com/l.php?u=http%3A%2F%2Fglobustheatre.com%2F%3Ffbclid%3DIwZ
 Xh0bgNhZW0CMTAAYnJpZBExMWpja1dISW0yQWdrOUt4aQEezvW2xPqSB7tRq3zoxA9tqjp4NUie
 s8dMyolAWpysuCotrTCNWUf94uO41ag_aem_iDJLTHRncwtYCuXlGRO5xg&amp;h=AT0yqHLDLT
 K731No86JzUgX-1I7rLj32UD1hCn-BqPJWXqH3-vEZfILKlAIpIv37-xGmSAPkfpZIMo4DRNijX
 9Dl3sDUmNwZCy6JaG1WlPYgaugXwo0_2_GlTdbYP4bwuavAKOjDt633KQp5&amp;__tn__=q" t
 arget="_blank" rel="nofollow noopener noreferrer" tabindex="0" role="link">
 globustheatre.com</a></p><p>Thank you to our show sponsor Handley Lumber</p
 >
DTSTAMP:20260422T233140
DTSTART:20250805T200000
SEQUENCE:0
TRANSP:OPAQUE
END:VEVENT
END:VCALENDAR