BEGIN:VCALENDAR
VERSION:2.0
PRODID:-//jEvents 2.0 for Joomla//EN
CALSCALE:GREGORIAN
METHOD:PUBLISH
BEGIN:VEVENT
UID:5a63d00b9aec8a24fb8e5e714e99fdb9
CATEGORIES:Community Events
CREATED:20250522T201417
SUMMARY:Globus Theatre Presents: Shirley Valentine
LOCATION:2300 Pigeon Lake Road
DESCRIPTION:Shirley Valentine by Willy Russell\n \nWorking-class Liverpudlian housewife
  Shirley is so bored with her life that she finds herself regularly talking
  to the wall. She dreams of adventure and drinking a glass of wine "in a co
 untry where the grape is grown". When she eventually packs her bags for a f
 ortnight in Greece what she finds is a whole lot more! A hilarious, heart-w
 renching &amp; uplifting story, full of Willy Russell's fabulous British hu
 mour and memorable one-liners.\n \nSarah Quick stars in Willy Russell's hil
 arious and uplifting classic about one woman's life-changing adventure.\n \
 nShowtimes:\nAugust 13 - 8pm\nAugust 14 - 8pm\nAugust 15 - 8pm\nAugust 16 -
  2pm and 8pm\nAugust 19 - 8pm\nAugust 20 - 8pm\nAugust 21 - 2pm and 8pm\nAu
 gust 22 - 8pm\nAugust 23 - 8pm\n \nTicket Prices:\nTheatre $50 +HST\nDinner
  and Theatre $100 +HST\n \nBook tickets by calling our box office 705 738 2
 037 or online at globustheatre.com (https://l.facebook.com/l.php?u=http%3A%
 2F%2Fglobustheatre.com%2F%3Ffbclid%3DIwZXh0bgNhZW0CMTAAYnJpZBExMWpja1dISW0y
 QWdrOUt4aQEe4OPUwm6mPoT18ZoiD1ZgJHkoys2evex9194IkMwTh_IUV-XFVVe5f2oNN-A_aem
 _jd-Ecf2SMygVOHs8Au_Cng&amp;h=AT29h_aXH8VJZzUNAnnolnif1fx49wy0JZhHWct_hiy90
 YndFc27zZpfuWJCszomoaMZWmJ3bfszs81SzotOYo8E-XgmFw5Vo3cYHp8E7xzz4xaYK0-EWy07
 y0jG6U-PEgdZRmVHI923t9lb&amp;__tn__=q)\nThank you to show sponsor LLF Lawye
 rs\n
X-ALT-DESC;FMTTYPE=text/html:<p>Shirley Valentine by Willy Russell</p><p>&nbsp;</p><p>Working-class Live
 rpudlian housewife Shirley is so bored with her life that she finds herself
  regularly talking to the wall. She dreams of adventure and drinking a glas
 s of wine "in a country where the grape is grown". When she eventually pack
 s her bags for a fortnight in Greece what she finds is a whole lot more! A 
 hilarious, heart-wrenching &amp; uplifting story, full of Willy Russell's f
 abulous British humour and memorable one-liners.</p><p>&nbsp;</p><p>Sarah Q
 uick stars in Willy Russell's hilarious and uplifting classic about one wom
 an's life-changing adventure.</p><p>&nbsp;</p><p>Showtimes:<br />August 13 
 - 8pm<br />August 14 - 8pm<br />August 15 - 8pm<br />August 16 - 2pm and 8p
 m<br />August 19 - 8pm<br />August 20 - 8pm<br />August 21 - 2pm and 8pm<br
  />August 22 - 8pm<br />August 23 - 8pm</p><p>&nbsp;</p><p>Ticket Prices:<b
 r />Theatre $50 +HST<br />Dinner and Theatre $100 +HST</p><p>&nbsp;</p><p>B
 ook tickets by calling our box office 705 738 2037 or online at&nbsp;<a hre
 f="https://l.facebook.com/l.php?u=http%3A%2F%2Fglobustheatre.com%2F%3Ffbcli
 d%3DIwZXh0bgNhZW0CMTAAYnJpZBExMWpja1dISW0yQWdrOUt4aQEe4OPUwm6mPoT18ZoiD1ZgJ
 Hkoys2evex9194IkMwTh_IUV-XFVVe5f2oNN-A_aem_jd-Ecf2SMygVOHs8Au_Cng&amp;h=AT2
 9h_aXH8VJZzUNAnnolnif1fx49wy0JZhHWct_hiy90YndFc27zZpfuWJCszomoaMZWmJ3bfszs8
 1SzotOYo8E-XgmFw5Vo3cYHp8E7xzz4xaYK0-EWy07y0jG6U-PEgdZRmVHI923t9lb&amp;__tn
 __=q" target="_blank" rel="nofollow noopener noreferrer" tabindex="0" role=
 "link">globustheatre.com</a></p><p>Thank you to show sponsor LLF Lawyers</p
 >
DTSTAMP:20260423T012334
DTSTART:20250822T200000
SEQUENCE:0
TRANSP:OPAQUE
END:VEVENT
END:VCALENDAR