BEGIN:VCALENDAR
VERSION:2.0
PRODID:-//jEvents 2.0 for Joomla//EN
CALSCALE:GREGORIAN
METHOD:PUBLISH
BEGIN:VEVENT
UID:b4451cbefa93319915c39699b1099356
CATEGORIES:Community Events
CREATED:20250522T201548
SUMMARY:Globus Theatre Presents: The Beaver Club
LOCATION:2300 Pigeon Lake Road
DESCRIPTION:The Beaver Club by Barb Sheffler\n \nA wildly funny tale of four women, who
  form an unlikely friendship, setting off on a road trip from Toronto to Di
 ldo, Newfoundland. Along the way, they confront their pasts, navigate their
  present, and embrace the future. Through skinny dipping, scrapbooking, sha
 red secrets, and fresh starts, the members of The Beaver Club form a bond, 
 and discover life is better when you can face the world together.\n \nA rio
 tous cross country road trip that is a love letter to Canada!\n \nShowtimes
 :\nSeptember 24 - 8pm\nSeptember 25 - 8pm\nSeptember 26 - 8pm\nSeptember 27
  - 2pm and 8pm\nOctober 1 - 8pm\nOctober 2 - 2pm and 8pm\nOctober 3 - 8pm\n
 October 4 - 8pm\n \nTicket Prices:\nTheatre $50 +HST\nDinner and Theatre $1
 00 +HST\nBook tickets by calling our box office 705 738 2037 or online at g
 lobustheatre.com (https://l.facebook.com/l.php?u=http%3A%2F%2Fglobustheatre
 .com%2F%3Ffbclid%3DIwZXh0bgNhZW0CMTAAYnJpZBExMWpja1dISW0yQWdrOUt4aQEeJaNCfq
 wupbrX0-q0lHNbmcysteciCCrw0YCKtVBR8zlMFSR38mx0SM7tFRw_aem_y62Fj76_SEP01xA5m
 UHvsQ&amp;h=AT34agZk68ZNk0fkpMLNvCftcIIXW3MJIyFuwFJVQcnKQTErYw3jayREfcqhCRw
 XlopMTcONCpw3jUWKFS3cX9tDEQhxrAUgT_QLz9PEe6r4WOAe8qdgW4co6LB_rwyEjJu0RwJ7LR
 -lPah2&amp;__tn__=q)\n \nThank you to our show sponsor Days Inn and Suites 
 - Lindsay\n
X-ALT-DESC;FMTTYPE=text/html:<p>The Beaver Club by Barb Sheffler</p><p>&nbsp;</p><p>A wildly funny tale 
 of four women, who form an unlikely friendship, setting off on a road trip 
 from Toronto to Dildo, Newfoundland. Along the way, they confront their pas
 ts, navigate their present, and embrace the future. Through skinny dipping,
  scrapbooking, shared secrets, and fresh starts, the members of The Beaver 
 Club form a bond, and discover life is better when you can face the world t
 ogether.</p><p>&nbsp;</p><p>A riotous cross country road trip that is a lov
 e letter to Canada!</p><p>&nbsp;</p><p>Showtimes:<br />September 24 - 8pm<b
 r />September 25 - 8pm<br />September 26 - 8pm<br />September 27 - 2pm and 
 8pm<br />October 1 - 8pm<br />October 2 - 2pm and 8pm<br />October 3 - 8pm<
 br />October 4 - 8pm</p><p>&nbsp;</p><p>Ticket Prices:<br />Theatre $50 +HS
 T<br />Dinner and Theatre $100 +HST</p><p>Book tickets by calling our box o
 ffice 705 738 2037 or online at&nbsp;<a href="https://l.facebook.com/l.php?
 u=http%3A%2F%2Fglobustheatre.com%2F%3Ffbclid%3DIwZXh0bgNhZW0CMTAAYnJpZBExMW
 pja1dISW0yQWdrOUt4aQEeJaNCfqwupbrX0-q0lHNbmcysteciCCrw0YCKtVBR8zlMFSR38mx0S
 M7tFRw_aem_y62Fj76_SEP01xA5mUHvsQ&amp;h=AT34agZk68ZNk0fkpMLNvCftcIIXW3MJIyF
 uwFJVQcnKQTErYw3jayREfcqhCRwXlopMTcONCpw3jUWKFS3cX9tDEQhxrAUgT_QLz9PEe6r4WO
 Ae8qdgW4co6LB_rwyEjJu0RwJ7LR-lPah2&amp;__tn__=q" target="_blank" rel="nofol
 low noopener noreferrer" tabindex="0" role="link">globustheatre.com</a></p>
 <p>&nbsp;</p><p>Thank you to our show sponsor Days Inn and Suites - Lindsay
 </p>
DTSTAMP:20260423T092652
DTSTART:20251003T200000
SEQUENCE:0
TRANSP:OPAQUE
END:VEVENT
END:VCALENDAR