BEGIN:VCALENDAR
VERSION:2.0
PRODID:-//jEvents 2.0 for Joomla//EN
CALSCALE:GREGORIAN
METHOD:PUBLISH
BEGIN:VEVENT
UID:0f2c1e1d25596258796f2d5254a02961
CATEGORIES:Community Events
CREATED:20250527T192015
SUMMARY:TERRAVIEW HEIGHTS GARAGE SALE MAY 31  
LOCATION:Terraview Heights Drive 
DESCRIPTION:SATURDAY, MAY 31 \nTERRAVIEW HEIGHTS DRIVE, PETERBOROUGH\nCOMMUNITY GARAGE 
 SALE \n7:30 am - 2:30 pm \n
X-ALT-DESC;FMTTYPE=text/html:<p><strong>SATURDAY, MAY 31 </strong></p><p><em><strong>TERRAVIEW HEIGHTS D
 RIVE, PETERBOROUGH</strong></em></p><p><strong><span style="text-decoration
 : underline;">COMMUNITY GARAGE SALE</span></strong> </p><p><strong>7:30 am 
 - 2:30 pm </strong></p>
X-EXTRAINFO:By the zoo! North end Peterborough 
DTSTAMP:20260423T024115
DTSTART:20250531T073000
DTEND:20250531T140000
SEQUENCE:0
TRANSP:OPAQUE
END:VEVENT
END:VCALENDAR