BEGIN:VCALENDAR
VERSION:2.0
PRODID:-//jEvents 2.0 for Joomla//EN
CALSCALE:GREGORIAN
METHOD:PUBLISH
BEGIN:VEVENT
UID:ef2072ee466d79f68a8bccb46ae57f1d
CATEGORIES:Community Events
CREATED:20250528T193004
SUMMARY:LEX Horsemen's Association Show
LOCATION:Lindsay Exhibition 354 Angeline Street South\, Lindsay\, Ontario
DESCRIPTION:The Lindsay Agriculture Society is hosting the very first LEX Horsemen's As
 sociation Horse Show Series on Saturday, May 31 starting at 9:00 AM at the 
 Lindsay Exhibition grounds. There is free admission to all four shows: Satu
 rday, May 31, Saturday, July 5, Saturday, August 2 and Saturday, September 
 27. Come on out and cheer on our exhibitors and their horses.\n
X-ALT-DESC;FMTTYPE=text/html:<p>The Lindsay Agriculture Society is hosting the very first LEX Horsemen's
  Association Horse Show Series on Saturday, May 31 starting at 9:00 AM at t
 he Lindsay Exhibition grounds. There is free admission to all four shows: S
 aturday, May 31, Saturday, July 5, Saturday, August 2 and Saturday, Septemb
 er 27. Come on out and cheer on our exhibitors and their horses.</p>
DTSTAMP:20260423T023843
DTSTART:20250531T090000
DTEND:20250531T170000
SEQUENCE:0
TRANSP:OPAQUE
END:VEVENT
END:VCALENDAR