BEGIN:VCALENDAR
VERSION:2.0
PRODID:-//jEvents 2.0 for Joomla//EN
CALSCALE:GREGORIAN
METHOD:PUBLISH
BEGIN:VEVENT
UID:00dc7ff1e25855cef39df34c4558ec7b
CATEGORIES:Community Events
CREATED:20250528T193528
SUMMARY:LEX Express Gaming Horse Show Series
LOCATION:Lindsay Exhibition 354 Angeline Street South\, Lindsay\, Ontario
DESCRIPTION:The Lindsay Agriculture Society is hosting the second annual LEX Express Ga
 ming Horse Show Series on Sunday, June 1 starting at 10:00 AM at the Lindsa
 y Exhibition grounds. There is free admission to the first three shows: Sun
 day, June 1, Sunday, July 6 and Sunday, August 3. The Finale show will be h
 eld during the Lindsay Exhibition on Sunday, September 14. If you have a ne
 ed for speed come out and cheer on our exhibitors and their horses as they 
 run in events like barrel racing and pole bending for a chance to win Champ
 ion Buckles at the end of the season! The LAS Food Booth will also be open 
 for breakfast and lunch!\n
X-ALT-DESC;FMTTYPE=text/html:<p>The Lindsay Agriculture Society is hosting the second annual LEX Express
  Gaming Horse Show Series on Sunday, June 1 starting at 10:00 AM at the Lin
 dsay Exhibition grounds. There is free admission to the first three shows: 
 Sunday, June 1, Sunday, July 6 and Sunday, August 3. The Finale show will b
 e held during the Lindsay Exhibition on Sunday, September 14. If you have a
  need for speed come out and cheer on our exhibitors and their horses as th
 ey run in events like barrel racing and pole bending for a chance to win Ch
 ampion Buckles at the end of the season! The LAS Food Booth will also be op
 en for breakfast and lunch!</p>
DTSTAMP:20260423T024126
DTSTART:20250601T100000
DTEND:20250601T170000
SEQUENCE:0
TRANSP:OPAQUE
END:VEVENT
END:VCALENDAR