BEGIN:VCALENDAR
VERSION:2.0
PRODID:-//jEvents 2.0 for Joomla//EN
CALSCALE:GREGORIAN
METHOD:PUBLISH
BEGIN:VEVENT
UID:40cfbb7f764fefeb90149ae7f86cadc6
CATEGORIES:Community Events
CREATED:20250529T152743
SUMMARY:Free Outdoor Concert at Activity Haven
LOCATION:180 Barnardo Ave.
DESCRIPTION:Join us for a free outdoor concert at Activity Haven.\nEntertainment by Fou
 r Lanes Wide\nThursday June 19th from 6-8PM. \nBBQ meal available for $10 \
 n
X-ALT-DESC;FMTTYPE=text/html:<p>Join us for a <strong>free</strong> outdoor concert at Activity Haven.</
 p><p>Entertainment by Four Lanes Wide</p><p>Thursday June 19th from 6-8PM. 
 </p><p>BBQ meal available for $10 </p>
CONTACT:This email address is being protected from spambots. You need JavaScript enabled to view it.
X-EXTRAINFO:Located at Activity Haven
DTSTAMP:20260423T044018
DTSTART:20250619T180000
DTEND:20250619T200000
SEQUENCE:0
TRANSP:OPAQUE
END:VEVENT
END:VCALENDAR