BEGIN:VCALENDAR
VERSION:2.0
PRODID:-//jEvents 2.0 for Joomla//EN
CALSCALE:GREGORIAN
METHOD:PUBLISH
BEGIN:VEVENT
UID:00c917f8e6750bb6ab34ac0eef47429e
CATEGORIES:Community Events
CREATED:20250530T230226
SUMMARY:National BeaverTails Pastry Day 
LOCATION:1665 Chemong Rd 
DESCRIPTION:Join us for National BeaverTails Pastry Day \nTo celebrate we will be givin
 g away 1 Free Classic pastry, per customer, between 3pm and 5pm or while qu
 antities last. \n\n\nThis year we are partnering with Jack.org and will be 
 accepting donations during the event. \n\n\nJack.org is Canada’s leading yo
 uth mental health organization with a mission to empower young people and r
 evolutionize mental health in their community. \n
X-ALT-DESC;FMTTYPE=text/html:<p>Join us for National BeaverTails Pastry Day </p><p>To celebrate we will 
 be giving away 1 Free Classic pastry, per customer, between 3pm and 5pm or 
 while quantities last. <br /><br /></p><p>This year we are partnering with 
 Jack.org and will be accepting donations during the event. <br /><br /></p>
 <p>Jack.org is Canada’s leading youth mental health organization with a mis
 sion to empower young people and revolutionize mental health in their commu
 nity. </p>
CONTACT:This email address is being protected from spambots. You need JavaScript enabled to view it.
DTSTAMP:20260423T024006
DTSTART:20250606T150000
DTEND:20250606T170000
SEQUENCE:0
TRANSP:OPAQUE
END:VEVENT
END:VCALENDAR