BEGIN:VCALENDAR
VERSION:2.0
PRODID:-//jEvents 2.0 for Joomla//EN
CALSCALE:GREGORIAN
METHOD:PUBLISH
BEGIN:VEVENT
UID:642508209e8771aae2d527a1207a974f
CATEGORIES:Community Events
CREATED:20250531T005020
SUMMARY:Lakefield DPS Fun Fair
LOCATION:Lakefield District Public School
DESCRIPTION:Join the Lakefield District Public School community for our annual Fun Fair
 !\nWith bouncy castles, food trucks, games, and more there is fun to be had
  for the whole family! \n
X-ALT-DESC;FMTTYPE=text/html:<p>Join the Lakefield District Public School community for our annual Fun F
 air!</p><p>With bouncy castles, food trucks, games, and more there is fun t
 o be had for the whole family! </p>
DTSTAMP:20260423T072542
DTSTART:20250612T160000
DTEND:20250612T190000
SEQUENCE:0
TRANSP:OPAQUE
END:VEVENT
END:VCALENDAR