BEGIN:VCALENDAR
VERSION:2.0
PRODID:-//jEvents 2.0 for Joomla//EN
CALSCALE:GREGORIAN
METHOD:PUBLISH
BEGIN:VEVENT
UID:e0ea4d0f6d7b309d3c2bda971ed712b4
CATEGORIES:Community Events
CREATED:20250603T135835
SUMMARY:LINDSAY LAWN BOWLING CLUB - Open House
LOCATION:LINDSAY LAWN BOWLING CLUB
DESCRIPTION:Open House\nJune 7th 10- 2\nCome a see what the sport is all about and give
  it a try . Then stay for a free BBQ lunch .\nAll welcome\nA game for All A
 ges\n
X-ALT-DESC;FMTTYPE=text/html:<p>Open House<br />June 7th 10- 2<br />Come a see what the sport is all abo
 ut and give it a try . Then stay for a free BBQ lunch .<br />All welcome<br
  />A game for All Ages</p>
DTSTAMP:20260423T024020
DTSTART:20250607T100000
DTEND:20250607T140000
SEQUENCE:0
TRANSP:OPAQUE
END:VEVENT
END:VCALENDAR