BEGIN:VCALENDAR
VERSION:2.0
PRODID:-//jEvents 2.0 for Joomla//EN
CALSCALE:GREGORIAN
METHOD:PUBLISH
BEGIN:VEVENT
UID:d88d6d19435422d5fd9678e5162498b5
CATEGORIES:Community Events
CREATED:20250605T225740
SUMMARY:Canada Day Barbecue Celebration
LOCATION:Coboconk
DESCRIPTION:The Coboconk Branch of the Royal Canadian Legion would like to invite you h
 elp us celebrate Canada Day. \nThere will be a Bake Sale from noon to 3:00P
 M\nOur Weekly Meat Roll takes place at 3:00 PM\nMusic by Sunny Dayz begins 
 at 4:30 PM\nBarbecue Dinner begins at 4:30 PM ($10:00 per person)\nThere wi
 ll be burgers, sausage, hotdogs and salads\nAll proceeds will be earmarked 
 for our emergency generator fund\n
X-ALT-DESC;FMTTYPE=text/html:<p>The Coboconk Branch of the Royal Canadian Legion would like to invite yo
 u help us celebrate Canada Day. </p><p>There will be a Bake Sale from noon 
 to 3:00PM</p><p>Our Weekly Meat Roll takes place at 3:00 PM</p><p>Music by 
 Sunny Dayz begins at 4:30 PM</p><p>Barbecue Dinner begins at 4:30 PM ($10:0
 0 per person)</p><p>There will be burgers, sausage, hotdogs and salads</p><
 p>All proceeds will be earmarked for our emergency generator fund</p>
CONTACT:Terry Blackmolre
X-EXTRAINFO:We look forward to se you there.
DTSTAMP:20260423T010802
DTSTART;VALUE=DATE:20250628
DTEND;VALUE=DATE:20250629
SEQUENCE:0
TRANSP:OPAQUE
END:VEVENT
END:VCALENDAR