BEGIN:VCALENDAR
VERSION:2.0
PRODID:-//jEvents 2.0 for Joomla//EN
CALSCALE:GREGORIAN
METHOD:PUBLISH
BEGIN:VEVENT
UID:d77393002dd9a752214360d54aec189b
CATEGORIES:Community Events
CREATED:20250605T230532
SUMMARY:Fire Fighters Annual Car Wash
LOCATION:Burnt River Fire Hall
DESCRIPTION:The Burnt River Fire Department will be hosting its annual car wash.\nBegin
 ning at 8:00 AM\nBring in your dirty ride for a scrub a dub\nBreakfast, bru
 nch or lunch will be availible\n
X-ALT-DESC;FMTTYPE=text/html:<p>The Burnt River Fire Department will be hosting its annual car wash.</p>
 <p>Beginning at 8:00 AM</p><p>Bring in your dirty ride for a scrub a dub</p
 ><p>Breakfast, brunch or lunch will be availible</p>
CONTACT:Terry Blackmore
X-EXTRAINFO:Happiness is a clean ride
DTSTAMP:20260423T010449
DTSTART:20250628T080000
SEQUENCE:0
TRANSP:OPAQUE
END:VEVENT
END:VCALENDAR