BEGIN:VCALENDAR
VERSION:2.0
PRODID:-//jEvents 2.0 for Joomla//EN
CALSCALE:GREGORIAN
METHOD:PUBLISH
BEGIN:VEVENT
UID:16e01ba5063f09ab8326c23620dcf950
CATEGORIES:Community Events
CREATED:20250605T231050
SUMMARY:Community Yard Sale
LOCATION:Burnt River Community Centre
DESCRIPTION:The Burnt River Community Centre is hosting a Community Yard Sale\nTable re
 ntal $10:00 \nContact Erin @ (705) 454-8627 for rental info\n
X-ALT-DESC;FMTTYPE=text/html:<p>The Burnt River Community Centre is hosting a Community Yard Sale</p><p>
 Table rental $10:00 </p><p>Contact Erin @ (705) 454-8627 for rental info</p
 >
CONTACT:Terry Blackmore
X-EXTRAINFO:Come sell your old treasures and buy some new ones
DTSTAMP:20260423T010633
DTSTART:20250628T080000
DTEND:20250628T130000
SEQUENCE:0
TRANSP:OPAQUE
END:VEVENT
END:VCALENDAR