BEGIN:VCALENDAR
VERSION:2.0
PRODID:-//jEvents 2.0 for Joomla//EN
CALSCALE:GREGORIAN
METHOD:PUBLISH
BEGIN:VEVENT
UID:963956b23a2eebcfe514404d26472793
CATEGORIES:Community Events
CREATED:20250607T225346
SUMMARY:PTBO Lions Club Summer Golf Tournament
LOCATION:Liftlock Golf Club
DESCRIPTION:The Peterborough Lions Club will be hosting a Summer Golf Tournament Fundra
 iser on July 12, 2025. See link below for event flyer.\nhttps://e-clubhouse
 .org/sites/peterboroughlionson/page-9.php (https://e-clubhouse.org/sites/pe
 terboroughlionson/page-9.php)\n
X-ALT-DESC;FMTTYPE=text/html:<p>The Peterborough Lions Club will be hosting a Summer Golf Tournament Fun
 draiser on July 12, 2025. See link below for event flyer.</p><p><a href="ht
 tps://e-clubhouse.org/sites/peterboroughlionson/page-9.php">https://e-clubh
 ouse.org/sites/peterboroughlionson/page-9.php</a></p>
CONTACT:Judy Jenkins
X-EXTRAINFO:This email address is being protected from spambots. You need JavaScript en
 abled to view it.\nor\n705-740-2288\n
DTSTAMP:20260423T093634
DTSTART:20250712T080000
SEQUENCE:0
TRANSP:OPAQUE
END:VEVENT
END:VCALENDAR