BEGIN:VCALENDAR
VERSION:2.0
PRODID:-//jEvents 2.0 for Joomla//EN
CALSCALE:GREGORIAN
METHOD:PUBLISH
BEGIN:VEVENT
UID:c2d67e7797b5817ba875d1ec573dda81
CATEGORIES:Community Events
CREATED:20250609T185904
SUMMARY:Victoria County Studio Tour Gallery
LOCATION:The Boyd Heritage Museum in Bobcaygeon 
DESCRIPTION:The Victoria County Studio Tour is celebrating its 40th anniversary and to 
 honour this impressive achievement the artists are offering a preview galle
 ry show and sale everyday during the month of July.\n \nThis gallery show i
 s free of charge and open everyday between 10:00 and 4:00 at The Boyd Herit
 age Museum located at 21 Canal Street East in Bobcaygeon.\n \nYou are invit
 ed to our Grand Opening on Saturday, July 5th from 1:00 to 4:00 to meet the
  artists and view a sample of the unique and diverse work offered during ou
 r Fall tour. Tour brochures will be available so you can plan your route fo
 r the scenic fall tour. \n \nPlease visit the website at www.victoriastudio
 tour.com for more information.\n \n
X-ALT-DESC;FMTTYPE=text/html:<p class="p2"><span class="s1">The Victoria County Studio Tour is celebrati
 ng its 40th anniversary and to honour this impressive achievement the artis
 ts are offering a preview gallery show and sale everyday during the month o
 f July.</span></p><p class="p1"> </p><p class="p2"><span class="s1">This ga
 llery show is free of charge and open everyday between 10:00 and 4:00 at Th
 e Boyd Heritage Museum located at 21 Canal Street East in Bobcaygeon.</span
 ></p><p class="p1"> </p><p class="p2"><span class="s1">You are invited to o
 ur Grand Opening on Saturday, July 5th from 1:00 to 4:00 to meet the artist
 s and view a sample of the unique and diverse work offered during our Fall 
 tour. Tour brochures will be available so you can plan your route for the s
 cenic fall tour. </span></p><p class="p1"> </p><p class="p2"><span class="s
 1">Please visit the website at www.victoriastudiotour.com for more informat
 ion.</span></p><p class="p1"> </p>
CONTACT:Sara Purves
DTSTAMP:20260423T010633
DTSTART:20250701T100000
DTEND:20250730T160000
SEQUENCE:0
TRANSP:OPAQUE
END:VEVENT
END:VCALENDAR