BEGIN:VCALENDAR
VERSION:2.0
PRODID:-//jEvents 2.0 for Joomla//EN
CALSCALE:GREGORIAN
METHOD:PUBLISH
BEGIN:VEVENT
UID:198d7192feb0c7d3419f0cb9b1e3ea6e
CATEGORIES:Community Events
CREATED:20250611T143246
SUMMARY:HSKL Golf Tournament
LOCATION:Lindsay Golf &amp; Country Club\, 282 Lindsay St S\, Lindsay\, ON
DESCRIPTION:The Humane Society of Kawartha Lakes (HSKL) is thrilled to announce the ret
 urn of its highly anticipated signature Charity Golf Tournament, set for Fr
 iday, August 22, 2025, at the beautiful Lindsay Golf &amp; Country Club.\n\
 nThis annual event brings together animal lovers, community members, and lo
 cal businesses for a fun-filled day on the green, all in support of animals
  in need across the Kawartha Lakes region.\n\nTournament Details:\nDate: Fr
 iday, August 22, 2025\nLocation: Lindsay Golf &amp; Country Club, 282 Linds
 ay St S, Lindsay, ON\nRegistration: 11:00 AM | Shotgun Start: 1:00 PM\nIncl
 udes: 18 holes of golf, cart rental, access to the driving range, BBQ lunch
 , 3 course dinner, 50/50 draw, raffles, prizes, and more!\n\nProceeds from 
 the tournament support shelter operations, surgeries, veterinary care, medi
 cations, food, and rehoming animals.\n\nSponsorship opportunities and playe
 r registration are now available. Whether you’re a business looking to give
  back or a foursome ready for a fun-filled day on the greens, there’s a way
  for everyone to get involved.\n\nTo register to play in the tournament, go
  to the HSKL website at hskl.ca. Contact Tina MacFarlane at This email addr
 ess is being protected from spambots. You need JavaScript enabled to view i
 t. for sponsorship opportunities.\n\nSpace is limited, so sign up early to 
 secure your spot!\n\nIt's a fantastic way to give back, have fun, and make 
 a difference for the animals of Kawartha Lakes, one swing at a time!\n \n
X-ALT-DESC;FMTTYPE=text/html:<p>The Humane Society of Kawartha Lakes (HSKL) is thrilled to announce the 
 return of its highly anticipated signature Charity Golf Tournament, set for
  Friday, August 22, 2025, at the beautiful Lindsay Golf &amp; Country Club.
 </p><p><br />This annual event brings together animal lovers, community mem
 bers, and local businesses for a fun-filled day on the green, all in suppor
 t of animals in need across the Kawartha Lakes region.</p><p><br />Tourname
 nt Details:<br /><strong>Date:</strong> Friday, August 22, 2025<br /><stron
 g>Location:</strong> Lindsay Golf &amp; Country Club, 282 Lindsay St S, Lin
 dsay, ON<br /><strong>Registration:</strong> 11:00 AM | Shotgun Start: 1:00
  PM<br /><strong>Includes:</strong> 18 holes of golf, cart rental, access t
 o the driving range, BBQ lunch, 3 course dinner, 50/50 draw, raffles, prize
 s, and more!</p><p><br />Proceeds from the tournament support shelter opera
 tions, surgeries, veterinary care, medications, food, and rehoming animals.
 </p><p><br />Sponsorship opportunities and player registration are now avai
 lable. Whether you’re a business looking to give back or a foursome ready f
 or a fun-filled day on the greens, there’s a way for everyone to get involv
 ed.</p><p><br />To register to play in the tournament, go to the HSKL websi
 te at hskl.ca. Contact Tina MacFarlane at <joomla-hidden-mail  is-link="1" 
 is-email="1" first="dG1hY2ZhcmxhbmU=" last="aHNrbC5jYQ==" text="dG1hY2Zhcmx
 hbmVAaHNrbC5jYQ==" base="" >This email address is being protected from spam
 bots. You need JavaScript enabled to view it.</joomla-hidden-mail> for spon
 sorship opportunities.</p><p><br />Space is limited, so sign up early to se
 cure your spot!</p><p><br />It's a fantastic way to give back, have fun, an
 d make a difference for the animals of Kawartha Lakes, one swing at a time!
 </p><p>&nbsp;</p>
DTSTAMP:20260423T012713
DTSTART;VALUE=DATE:20250822
DTEND;VALUE=DATE:20250823
SEQUENCE:0
TRANSP:OPAQUE
END:VEVENT
END:VCALENDAR