BEGIN:VCALENDAR
VERSION:2.0
PRODID:-//jEvents 2.0 for Joomla//EN
CALSCALE:GREGORIAN
METHOD:PUBLISH
BEGIN:VEVENT
UID:6229d5832804741d3854a1fa4bbb34f7
CATEGORIES:Community Events
CREATED:20250611T213750
SUMMARY:Yoga On Tap
LOCATION:100 Acre Brewing Co
DESCRIPTION:We have one Yoga on Tap a month starting in June. A fun way to bring Yoga o
 utdoors, in collaboration with 100 Acre Brewing Co.\nEach ticket includes a
  one hour Yoga session outdoors, and a 100 Acre beer of your choice, tastin
 g also available.\nALL LEVELS, fun class, strengthen, stretch, reach for th
 e trees, enjoy a fresh brew. Led by Kierstin Henrickson, co owner of Peterb
 orough Yoga\n11am start\n
X-ALT-DESC;FMTTYPE=text/html:<p class="">We have one Yoga on Tap a month starting in June. A fun way to 
 bring Yoga outdoors, in collaboration with 100 Acre Brewing Co.</p><p class
 ="">Each ticket includes a one hour Yoga session outdoors, and a 100 Acre b
 eer of your choice, tasting also available.</p><p class="">ALL LEVELS, fun 
 class, strengthen, stretch, reach for the trees, enjoy a fresh brew. Led by
  Kierstin Henrickson, co owner of Peterborough Yoga</p><p class="">11am sta
 rt</p>
CONTACT:www.peterboroughyoga.com
X-EXTRAINFO:We have one Yoga on Tap each month of summer into Sept. 
DTSTAMP:20260423T093634
DTSTART:20250713T110000
DTEND:20250713T120000
SEQUENCE:0
TRANSP:OPAQUE
END:VEVENT
END:VCALENDAR