BEGIN:VCALENDAR
VERSION:2.0
PRODID:-//jEvents 2.0 for Joomla//EN
CALSCALE:GREGORIAN
METHOD:PUBLISH
BEGIN:VEVENT
UID:76bc408c6d9c8c9fcf1115a6b2327558
CATEGORIES:Community Events
CREATED:20250611T214214
SUMMARY:108 Sun Salutations to Welcome Summer at 100 Acre Brewing Co.
LOCATION:100 Acre Brewing Co. 390 Ashburnam Drive
DESCRIPTION:Join Peterborough Yoga at 100 Acre Brewing Co. for a traditional way to cel
 ebrate the arrival of Summer. Summer Solstice 108 Sun salutes, followed by 
 one beverage of your choice with ticket.  Class is rain or shine, tent if i
 t is raining at location. \nNO YOGA experience needed.  \n
X-ALT-DESC;FMTTYPE=text/html:<p>Join Peterborough Yoga at 100 Acre Brewing Co. for a traditional way to 
 celebrate the arrival of Summer. Summer Solstice 108 Sun salutes, followed 
 by one beverage of your choice with ticket.  Class is rain or shine, tent i
 f it is raining at location. </p><p>NO YOGA experience needed.  </p>
CONTACT:www.peterboroughyoga.com
X-EXTRAINFO:Bring your yoga mat or one will be provided.  We move in group through 108 
 Sun Salutations, to celebrate summer.  You can always pause, rest, and join
  back in.  Afterwards, you can choose a beer, or non alcoholic beverage, al
 l for just $20. plus hst. 
DTSTAMP:20260423T044011
DTSTART:20250621T110000
DTEND:20250621T123000
SEQUENCE:0
TRANSP:OPAQUE
END:VEVENT
END:VCALENDAR