BEGIN:VCALENDAR
VERSION:2.0
PRODID:-//jEvents 2.0 for Joomla//EN
CALSCALE:GREGORIAN
METHOD:PUBLISH
BEGIN:VEVENT
UID:1246ad44d20ef31300fd8156ee3d298c
CATEGORIES:Community Events
CREATED:20250611T220217
SUMMARY:Market
LOCATION:Fairhaven LTC Home 881 Dutton rd 
DESCRIPTION:Summer Vendor Sale and Craft Market\nFriday July 4  10-2 rain or shine \nWe
  have 20 plus vendors from local small business!!!\n \n
X-ALT-DESC;FMTTYPE=text/html:<p>Summer Vendor Sale and Craft Market</p><p>Friday July 4  10-2 rain or sh
 ine </p><p>We have 20 plus vendors from local small business!!!</p><p> </p>
DTSTAMP:20260423T025924
DTSTART:20250724T100000
DTEND:20250724T140000
SEQUENCE:0
TRANSP:OPAQUE
END:VEVENT
END:VCALENDAR