BEGIN:VCALENDAR
VERSION:2.0
PRODID:-//jEvents 2.0 for Joomla//EN
CALSCALE:GREGORIAN
METHOD:PUBLISH
BEGIN:VEVENT
UID:59f7ae4ead6d095e39158f939c59c1c3
CATEGORIES:Community Events
CREATED:20250613T135546
SUMMARY:Modern Line Dancing Workshop @Mapleridge Recreation Centre
LOCATION:Mapleridge Recreation Centre\, 1085 Brealey Dr\, Peterborough\, ON K9K 0C1
DESCRIPTION:Ages 18+ are welcome, you don't need to be a member\nModern Line Dance Cowb
 oy Bootcamp with Tracey\nGet ready to move, groove, and have a blast at our
  Line Dance Cowboy Bootcamp! Whether you're a beginner looking to learn the
  basics or an experienced dancer feeling a little rusty wanting to sharpen 
 your skills, this high-energy session is perfect for all levels.\n📌 What to
  Expect:\n✔️ Step-by-step instruction on popular line dances\n✔️ Fun, upbea
 t music across various styles (country, pop &amp; more!)\n✔️ A great workou
 t while learning new moves\n✔️ No partner required—just bring your enthusia
 sm!\nJoin us for an exciting experience where you’ll gain confidence on the
  dance floor and connect with fellow dancers. Wear your cowboy boots (or co
 mfy shoes) and let’s dance! 🎶👢💃\nSaturday, June 28 2025\nBeginner Lessons 1
 0:00-11:30 $10\nBeginner Plus/Intermediate Lessons 11:30-1:00 $10\nAttend b
 oth for $15\nPre-registration preferred, call 705-742-1481\n
X-ALT-DESC;FMTTYPE=text/html:<p>Ages 18+ are welcome, you don't need to be a member</p><p><strong>Modern
  Line Dance Cowboy Bootcamp with Tracey</strong></p><p>Get ready to move, g
 roove, and have a blast at our <strong>Line Dance Cowboy Bootcamp!</strong>
  Whether you're a beginner looking to learn the basics or an experienced da
 ncer feeling a little rusty wanting to sharpen your skills, this high-energ
 y session is perfect for all levels.</p><p>📌 <strong>What to Expect:</stron
 g><br />✔️ Step-by-step instruction on popular line dances<br />✔️ Fun, upb
 eat music across various styles (country, pop &amp; more!)<br />✔️ A great 
 workout while learning new moves<br />✔️ No partner required—just bring you
 r enthusiasm!</p><p>Join us for an exciting experience where you’ll gain co
 nfidence on the dance floor and connect with fellow dancers. Wear your cowb
 oy boots (or comfy shoes) and let’s dance! 🎶👢💃</p><p>Saturday, June 28 2025
 </p><p>Beginner Lessons 10:00-11:30 <strong>$10</strong></p><p>Beginner Plu
 s/Intermediate Lessons 11:30-1:00 <strong>$10</strong></p><p>Attend both fo
 r <strong>$15</strong></p><p>Pre-registration preferred, call 705-742-1481<
 /p>
CONTACT:705-742-1481
X-EXTRAINFO:Brealey Dr. is closed in this section, access via Kawartha Heights Blvd.
DTSTAMP:20260423T010547
DTSTART:20250628T100000
DTEND:20250628T130000
SEQUENCE:0
TRANSP:OPAQUE
END:VEVENT
END:VCALENDAR