BEGIN:VCALENDAR
VERSION:2.0
PRODID:-//jEvents 2.0 for Joomla//EN
CALSCALE:GREGORIAN
METHOD:PUBLISH
BEGIN:VEVENT
UID:f8a0b5ceada3c6a76fc1eac11c41f886
CATEGORIES:Community Events
CREATED:20250614T153228
SUMMARY:Lindsay Little Theatre presents Bedside Manners
LOCATION:Flato Academy Theatre\, 2 Lindsay St S LindsaySt. 
DESCRIPTION:LLT presents Bedside Manners, a hilarious comedy farce by Derek Benfield, i
 n collaboration with the Flato Academy Theatre. \n
X-ALT-DESC;FMTTYPE=text/html:<p>LLT presents Bedside Manners, a hilarious comedy farce by Derek Benfield
 , in collaboration with the Flato Academy Theatre. </p>
CONTACT:This email address is being protected from spambots. You need JavaScript enabled to view it.
X-EXTRAINFO:When Ferris agreed to look after his sisters seedy country inn, he did not 
 anticipate all the comings and goings involving lies, confusions and bewild
 erments. Contains Adult Material
DTSTAMP:20260423T150525
DTSTART:20250704T193000
DTEND:20250704T220000
SEQUENCE:0
TRANSP:OPAQUE
END:VEVENT
END:VCALENDAR