BEGIN:VCALENDAR
VERSION:2.0
PRODID:-//jEvents 2.0 for Joomla//EN
CALSCALE:GREGORIAN
METHOD:PUBLISH
BEGIN:VEVENT
UID:306a3e2e8fa228b7cbe43b4b945c3182
CATEGORIES:Community Events
CREATED:20250614T154053
SUMMARY:Lindsay Little Theatre presents Bedside Manners
LOCATION:Flato Academy Theatre\, 2 Lindsay St S LindsaySt. 
DESCRIPTION:Lindsay Little Theatre presents in collaboration with the Flato Academy The
 atre, the hilarious comedy farce by Derek Benfield.\n
X-ALT-DESC;FMTTYPE=text/html:<p>Lindsay Little Theatre presents in collaboration with the Flato Academy 
 Theatre, the hilarious comedy farce by Derek Benfield.</p>
CONTACT:This email address is being protected from spambots. You need JavaScript enabled to view it.
X-EXTRAINFO:When Ferris agreed to look after his sisters seedy country inn he did not a
 nticipate all the comings and goings involving lies, confusions and bewilde
 rment. Contains Adult Material. 
DTSTAMP:20260423T130317
DTSTART:20250705T193000
DTEND:20250705T220000
SEQUENCE:0
TRANSP:OPAQUE
END:VEVENT
END:VCALENDAR