BEGIN:VCALENDAR
VERSION:2.0
PRODID:-//jEvents 2.0 for Joomla//EN
CALSCALE:GREGORIAN
METHOD:PUBLISH
BEGIN:VEVENT
UID:df605b614af256cd584dc8d642a1a52c
CATEGORIES:Community Events
CREATED:20250614T154636
SUMMARY:Lindsay Little Theatre presents Bedside Manners
LOCATION:Flato Academy Theatre\, 2 Lindsay St S LindsaySt. 
DESCRIPTION:Lindsay Little Theatre in collaboration with the Flato Academy Theatre the 
 hilarious comedy farce by Derek Benfield. \n
X-ALT-DESC;FMTTYPE=text/html:<p>Lindsay Little Theatre in collaboration with the Flato Academy Theatre t
 he hilarious comedy farce by Derek Benfield. </p>
CONTACT:This email address is being protected from spambots. You need JavaScript enabled to view it.
X-EXTRAINFO:When Ferris agreed to look after his sisters seedy country inn he did not a
 nticipate all the comings and goings involving lies, confusions and bewilde
 rment. Contains Adult Material. 
DTSTAMP:20260423T150643
DTSTART:20250706T140000
DTEND:20250706T163000
SEQUENCE:0
TRANSP:OPAQUE
END:VEVENT
END:VCALENDAR