BEGIN:VCALENDAR
VERSION:2.0
PRODID:-//jEvents 2.0 for Joomla//EN
CALSCALE:GREGORIAN
METHOD:PUBLISH
BEGIN:VEVENT
UID:2bdffd67142763b952959ee979b91dad
CATEGORIES:Community Events
CREATED:20250614T231545
SUMMARY:The Peterborough Lions Club is proud to support Lions Foundation of Canada Dog Guides, an organization dedicated to providing life-changing service dogs at no cost to Canadians with medical or physical disabilities.
LOCATION:Peterborough
DESCRIPTION:PTBO Lions Club are selling drink tumblers to raise funds for Lions Foundat
 ion of Canada Dog Guide - Walk for Dog Guides. To help raise funds, we’re e
 xcited to offer custom tumblers as part of our latest fundraiser! Tumbler P
 ricing: Lion Members: $20 (Comes with lid and straw) Non-Members: $25 (Come
 s with lid and straw) Extra Lids: $3 each Extra Steel Straws: $5 each.\n
X-ALT-DESC;FMTTYPE=text/html:<p>PTBO Lions Club are selling drink tumblers to raise funds for Lions Foun
 dation of Canada Dog Guide - Walk for Dog Guides. To help raise funds, we’r
 e excited to offer custom tumblers as part of our latest fundraiser! Tumble
 r Pricing: Lion Members: $20 (Comes with lid and straw) Non-Members: $25 (C
 omes with lid and straw) Extra Lids: $3 each Extra Steel Straws: $5 each.</
 p>
CONTACT:Karen Kearney
X-EXTRAINFO:M- 705-933-6360\ne-mail - This email address is being protected from spambo
 ts. You need JavaScript enabled to view it.   
DTSTAMP:20260422T233818
DTSTART;VALUE=DATE:20250803
DTEND;VALUE=DATE:20250804
SEQUENCE:0
TRANSP:OPAQUE
END:VEVENT
END:VCALENDAR