BEGIN:VCALENDAR
VERSION:2.0
PRODID:-//jEvents 2.0 for Joomla//EN
CALSCALE:GREGORIAN
METHOD:PUBLISH
BEGIN:VEVENT
UID:440f21a497567968c6e0ef3ad070d242
CATEGORIES:Community Events
CREATED:20250618T140655
SUMMARY:Terry Fox Golf Tournament 
LOCATION:Lindsay Golf and Country Club
DESCRIPTION:July 12 join us for the 5th Annual Terry Fox golf tournament.\nShot gun sta
 rt at 1pm, spots filling up fast.\n$150 per golfer reach out to Mario at 70
 5-768-3297\n
X-ALT-DESC;FMTTYPE=text/html:<p>July 12 join us for the 5th Annual Terry Fox golf tournament.</p><p>Shot
  gun start at 1pm, spots filling up fast.</p><p>$150 per golfer reach out t
 o Mario at 705-768-3297</p>
CONTACT:Mario Mazziotti
DTSTAMP:20260423T093826
DTSTART:20250712T130000
DTEND:20250712T170000
SEQUENCE:0
TRANSP:OPAQUE
END:VEVENT
END:VCALENDAR