BEGIN:VCALENDAR
VERSION:2.0
PRODID:-//jEvents 2.0 for Joomla//EN
CALSCALE:GREGORIAN
METHOD:PUBLISH
BEGIN:VEVENT
UID:27fc1cf1085924e87bfeae6f19a07720
CATEGORIES:Community Events
CREATED:20250619T210855
SUMMARY:Angel Street
LOCATION:55 George St W Lindsay
DESCRIPTION:“Angel Street” is a suspenseful psychological thriller set in Victorian Eng
 land. It is being performed at Lindsay Little Theatre on\nFri Aug 8th  @ 7 
 pm - 9:30 pm\nSat Aug 9th @ 7 pm - 9:30 pm\nSun Aug 10th @ 2 pm - 4:30 pm\n
 Fri Aug 15th  @ 7 pm - 9:30 pm\nSat Aug 16th  @ 7 pm - 9:30 pm\nSun Aug 17t
 h  @ 2 pm - 4:30 pm\n \n
X-ALT-DESC;FMTTYPE=text/html:<p>“Angel Street” is a suspenseful psychological thriller set in Victorian 
 England. It is being performed at Lindsay Little Theatre on</p><p>Fri Aug 8
 th  @ 7 pm - 9:30 pm</p><p>Sat Aug 9th @ 7 pm - 9:30 pm</p><p>Sun Aug 10th 
 @ 2 pm - 4:30 pm</p><p>Fri Aug 15th  @ 7 pm - 9:30 pm</p><p>Sat Aug 16th  @
  7 pm - 9:30 pm</p><p>Sun Aug 17th  @ 2 pm - 4:30 pm</p><p> </p>
CONTACT:This email address is being protected from spambots. You need JavaScript enabled to view it.
X-EXTRAINFO:Please note that Sunday performances are at 2 pm. 
DTSTAMP:20260423T125115
DTSTART:20250809T190000
DTEND:20250809T213000
SEQUENCE:0
TRANSP:OPAQUE
END:VEVENT
END:VCALENDAR