BEGIN:VCALENDAR
VERSION:2.0
PRODID:-//jEvents 2.0 for Joomla//EN
CALSCALE:GREGORIAN
METHOD:PUBLISH
BEGIN:VEVENT
UID:229dbcfb01eb4f94d1f7114251cfae76
CATEGORIES:Community Events
CREATED:20250623T133135
SUMMARY:Home Hardware Lindsay - Summer Vendor Market
LOCATION:Home Hardware Lindsay 207 Kent Street\, West\, Lindsay
DESCRIPTION:Home Hardware Lindsay - Summer Vendor Market\nCome out &amp; support local!
 \nSaturday, July 12, 2025 (Rain date Saturday, July 19, 2025) From 9 am to 
 2 pm @ 207 Kent Street, West, Lindsay\nOur Outdoor Summer Vendor Market wil
 l include a BBQ, Raffle Prizes &amp; Instore Savings! \nProceeds from the B
 BQ going to A Place Called Home. BBQ starts @ 11:30am\nShow your support fo
 r Local Artisans, Crafters, Makers, Bakers &amp; Businesses.\n
X-ALT-DESC;FMTTYPE=text/html:<p><span style="text-decoration: underline; font-family: 'comic sans ms', s
 ans-serif;"><strong>Home Hardware Lindsay - Summer Vendor Market</strong></
 span></p><p><strong><span style="font-family: 'comic sans ms', sans-serif;"
 >Come out &amp; support local!</span></strong></p><p><strong><span style="f
 ont-family: 'comic sans ms', sans-serif;">Saturday, July 12, 2025 (Rain dat
 e Saturday, July 19, 2025) From 9 am to 2 pm @ 207 Kent Street, West, Linds
 ay</span></strong></p><p><strong><span style="font-family: 'comic sans ms',
  sans-serif;">Our Outdoor Summer Vendor Market will include a BBQ, Raffle P
 rizes &amp; Instore Savings! </span></strong></p><p><strong><span style="fo
 nt-family: 'comic sans ms', sans-serif;">Proceeds from the BBQ going to A P
 lace Called Home. BBQ starts @ 11:30am</span></strong></p><p><strong><span 
 style="font-family: 'comic sans ms', sans-serif;">Show your support for Loc
 al Artisans, Crafters, Makers, Bakers &amp; Businesses.</span></strong></p>
CONTACT:Tracy Beaudry
DTSTAMP:20260423T093642
DTSTART:20250712T090000
DTEND:20250712T140000
SEQUENCE:0
TRANSP:OPAQUE
END:VEVENT
END:VCALENDAR