BEGIN:VCALENDAR
VERSION:2.0
PRODID:-//jEvents 2.0 for Joomla//EN
CALSCALE:GREGORIAN
METHOD:PUBLISH
BEGIN:VEVENT
UID:c3df549aa731d1e275a32d44936400a4
CATEGORIES:Community Events
CREATED:20250623T153140
SUMMARY:Lindsay Little Theatre
LOCATION:55 George St W Lindsay
DESCRIPTION:“Angel Street” a suspenseful thriller set in Victorian England. \n
X-ALT-DESC;FMTTYPE=text/html:<p>“Angel Street” a suspenseful thriller set in Victorian England. </p>
CONTACT:Info@lindsaylittletheatre
DTSTAMP:20260423T124811
DTSTART:20250809T190000
DTEND:20250809T213000
SEQUENCE:0
TRANSP:OPAQUE
END:VEVENT
END:VCALENDAR