BEGIN:VCALENDAR
VERSION:2.0
PRODID:-//jEvents 2.0 for Joomla//EN
CALSCALE:GREGORIAN
METHOD:PUBLISH
BEGIN:VEVENT
UID:1c9471b07bd1cdabf440defb57920170
CATEGORIES:Community Events
CREATED:20250623T160818
SUMMARY:Lindsay Little Theatre
LOCATION:55 George St W Lindsay
DESCRIPTION:“Angel Street” is a psychological thriller set in Victorian England. \n
X-ALT-DESC;FMTTYPE=text/html:<p>“Angel Street” is a psychological thriller set in Victorian England. </p
 >
CONTACT:Info@lindsaylittletheatre
DTSTAMP:20260423T074600
DTSTART:20250815T190000
DTEND:20250815T213000
SEQUENCE:0
TRANSP:OPAQUE
END:VEVENT
END:VCALENDAR