BEGIN:VCALENDAR
VERSION:2.0
PRODID:-//jEvents 2.0 for Joomla//EN
CALSCALE:GREGORIAN
METHOD:PUBLISH
BEGIN:VEVENT
UID:cd8c135b01dbcd6a9dcb3d05928a96ec
CATEGORIES:Community Events
CREATED:20250623T161045
SUMMARY:Lindsay Little Theatre
LOCATION:55 George St W Lindsay
DESCRIPTION:“Angel Street” is a psychological thriller set in Victorian England. \n
X-ALT-DESC;FMTTYPE=text/html:<p>“Angel Street” is a psychological thriller set in Victorian England. </p
 >
CONTACT:Info@lindsaylittletheatre
DTSTAMP:20260423T075421
DTSTART:20250817T140000
DTEND:20250817T163000
SEQUENCE:0
TRANSP:OPAQUE
END:VEVENT
END:VCALENDAR