BEGIN:VCALENDAR
VERSION:2.0
PRODID:-//jEvents 2.0 for Joomla//EN
CALSCALE:GREGORIAN
METHOD:PUBLISH
BEGIN:VEVENT
UID:d258cb9664044a916ae03cc91433d348
CATEGORIES:Community Events
CREATED:20250623T161618
SUMMARY:Lindsay Little Theatre
LOCATION:55 George St W Lindsay
DESCRIPTION:“Angel Street” is a psychological thriller set in Victorian England. \n
X-ALT-DESC;FMTTYPE=text/html:<p>“Angel Street” is a psychological thriller set in Victorian England. </p
 >
CONTACT:Info@lindssylittletheatre
DTSTAMP:20260423T113039
DTSTART:20250810T020000
DTEND:20250810T163000
SEQUENCE:0
TRANSP:OPAQUE
END:VEVENT
END:VCALENDAR