BEGIN:VCALENDAR
VERSION:2.0
PRODID:-//jEvents 2.0 for Joomla//EN
CALSCALE:GREGORIAN
METHOD:PUBLISH
BEGIN:VEVENT
UID:699339ef58288800bb168e8416c0893b
CATEGORIES:Community Events
CREATED:20250624T003531
SUMMARY:Ennismore Curling Club Garage and Bake Sale
LOCATION:555 Ennis Rd. Ennismore\, ON K0L 1T0
DESCRIPTION:The Ennismore Curling Club is hosting its annual garage and bake sale durin
 g the Ennismore Shamrock Festival, Friday July 18, 2025 4:00 pm – 7:00 pm, 
 and Saturday July 19, 2025 9:00 am – 2:00 pm. We have books, puzzles, toys,
  jewelry, household and gardening items, and much more. Home-baked treats a
 re plentiful at the bake sale. Plus, you can give Street Curling a try!\n
X-ALT-DESC;FMTTYPE=text/html:<p>The Ennismore Curling Club is hosting its annual garage and bake sale du
 ring the Ennismore Shamrock Festival, Friday July 18, 2025 4:00 pm – 7:00 p
 m, and Saturday July 19, 2025 9:00 am – 2:00 pm. We have books, puzzles, to
 ys, jewelry, household and gardening items, and much more. Home-baked treat
 s are plentiful at the bake sale. Plus, you can give Street Curling a try!<
 /p>
CONTACT:Andrea Mitchell
DTSTAMP:20260423T054529
DTSTART:20250719T090000
DTEND:20250719T140000
SEQUENCE:0
TRANSP:OPAQUE
END:VEVENT
END:VCALENDAR