BEGIN:VCALENDAR
VERSION:2.0
PRODID:-//jEvents 2.0 for Joomla//EN
CALSCALE:GREGORIAN
METHOD:PUBLISH
BEGIN:VEVENT
UID:ca450202096fa88942db037828416d8e
CATEGORIES:Community Events
CREATED:20250625T132409
SUMMARY:Line Dancing Event
LOCATION:Peterborough Curling Club
DESCRIPTION:This Friday, June 27th at 7pm - 12am\nLessons &amp; Dancing\n2195 Lansdowne
  St. W\nTickets available: $20\nPayment can be made to: This email address 
 is being protected from spambots. You need JavaScript enabled to view it.\n
 19+ Bar available.\nLine Dancing Event  (https://www.facebook.com/events/25
 01769363536671?acontext=%7B%22event_action_history%22%3A[%7B%22surface%22%3
 A%22external_search_engine%22%7D%2C%7B%22mechanism%22%3A%22your_upcoming_ev
 ents_unit%22%2C%22surface%22%3A%22bookmark%22%7D]%2C%22ref_notif_type%22%3A
 null%7D)\n
X-ALT-DESC;FMTTYPE=text/html:<p>This Friday, June 27th at 7pm - 12am</p><p>Lessons &amp; Dancing</p><p>2
 195 Lansdowne St. W</p><p>Tickets available: $20</p><p>Payment can be made 
 to: <joomla-hidden-mail  is-link="1" is-email="1" first="a2VsbHkuZWxraXc=" 
 last="Z21haWwuY29t" text="a2VsbHkuZWxraXdAZ21haWwuY29t" base="" >This email
  address is being protected from spambots. You need JavaScript enabled to v
 iew it.</joomla-hidden-mail></p><p>19+ Bar available.</p><p><a title="Line 
 Dancing Night Out!" href="https://www.facebook.com/events/2501769363536671?
 acontext=%7B%22event_action_history%22%3A[%7B%22surface%22%3A%22external_se
 arch_engine%22%7D%2C%7B%22mechanism%22%3A%22your_upcoming_events_unit%22%2C
 %22surface%22%3A%22bookmark%22%7D]%2C%22ref_notif_type%22%3Anull%7D">Line D
 ancing Event </a></p>
CONTACT:Kelly Elkiw This email address is being protected from spambots. You need JavaScript enabled to view it. 705-931-1691
DTSTAMP:20260423T010807
DTSTART:20250627T190000
DTEND:20250627T235900
SEQUENCE:0
TRANSP:OPAQUE
END:VEVENT
END:VCALENDAR