BEGIN:VCALENDAR
VERSION:2.0
PRODID:-//jEvents 2.0 for Joomla//EN
CALSCALE:GREGORIAN
METHOD:PUBLISH
BEGIN:VEVENT
UID:0138ef8e0ccddd219121f558c1513169
CATEGORIES:Community Events
CREATED:20250630T135338
SUMMARY:FLAMENCO ON TOUR - Peterborough
LOCATION:Gordon Best Theatre
DESCRIPTION:FLAMENCO ON TOUR - Peterborough\nTickets: https://www.eventbrite.com/e/flam
 enco-on-tour-peterborough-tickets-1428318271399 \nGordon Best Theatre, 216 
 Hunter St W\nFriday July 11, 2025\nDoors: 7:15pm\nShow: 8pm\nFLAMENCO ON TO
 UR offers a rare chance to experience Spain's treasured artform live, and p
 erformed by artists direct from Seville, Spain. Featuring Spain-based guita
 rist Dennis Duffin, percussionist and singer Dani Carbonell, and celebrated
  dancers Makeda Benitez and Lia Grainger, FLAMENCO ON TOUR brings the heat 
 and intensity of the traditional Spanish flamenco clubs -- the "tablaos" an
 d "penas" -- to Canadian theatres.\nExperience the delicate guitar arpeggio
 s and rapid "rasgados," the at turns mournful and joyful singing, and the s
 tunning and dramatic dance, complete with "complementos" like shawl, fan, a
 nd spectacular costumes.\nDance: Makeda Benitez\nDance: Lia Grainger\nGuita
 r: Dennis Duffin\nSong/Percussion: Dani Carbonell\nTickets: https://www.eve
 ntbrite.com/e/flamenco-on-tour-peterborough-tickets-1428318271399 \n
X-ALT-DESC;FMTTYPE=text/html:<p><span style="font-weight: 400;">FLAMENCO ON TOUR - Peterborough</span></
 p><p><span style="font-weight: 400;">Tickets: </span><a href="https://www.e
 ventbrite.com/e/flamenco-on-tour-peterborough-tickets-1428318271399"><span 
 style="font-weight: 400;">https://www.eventbrite.com/e/flamenco-on-tour-pet
 erborough-tickets-1428318271399</span></a><span style="font-weight: 400;"> 
 </span></p><p><span style="font-weight: 400;">Gordon Best Theatre, </span><
 span style="font-weight: 400;">216 Hunter St W</span></p><p><span style="fo
 nt-weight: 400;">Friday July 11, 2025</span></p><p><span style="font-weight
 : 400;">Doors: 7:15pm</span></p><p><span style="font-weight: 400;">Show: 8p
 m</span></p><p><span style="font-weight: 400;">FLAMENCO ON TOUR offers a ra
 re chance to experience Spain's treasured artform live, and performed by ar
 tists direct from Seville, Spain. Featuring Spain-based guitarist Dennis Du
 ffin, percussionist and singer Dani Carbonell, and celebrated dancers Maked
 a Benitez and Lia Grainger, FLAMENCO ON TOUR brings the heat and intensity 
 of the traditional Spanish flamenco clubs -- the "tablaos" and "penas" -- t
 o Canadian theatres.</span></p><p><span style="font-weight: 400;">Experienc
 e the delicate guitar arpeggios and rapid "rasgados," the at turns mournful
  and joyful singing, and the stunning and dramatic dance, complete with "co
 mplementos" like shawl, fan, and spectacular costumes.</span></p><p><span s
 tyle="font-weight: 400;">Dance: Makeda Benitez</span></p><p><span style="fo
 nt-weight: 400;">Dance: Lia Grainger</span></p><p><span style="font-weight:
  400;">Guitar: Dennis Duffin</span></p><p><span style="font-weight: 400;">S
 ong/Percussion: Dani Carbonell</span></p><p><span style="font-weight: 400;"
 >Tickets: </span><a href="https://www.eventbrite.com/e/flamenco-on-tour-pet
 erborough-tickets-1428318271399"><span style="font-weight: 400;">https://ww
 w.eventbrite.com/e/flamenco-on-tour-peterborough-tickets-1428318271399</spa
 n></a><span style="font-weight: 400;"> </span></p>
CONTACT:Lia, 647.768.5288
DTSTAMP:20260423T093324
DTSTART:20250711T200000
DTEND:20250711T220000
SEQUENCE:0
TRANSP:OPAQUE
END:VEVENT
END:VCALENDAR