BEGIN:VCALENDAR
VERSION:2.0
PRODID:-//jEvents 2.0 for Joomla//EN
CALSCALE:GREGORIAN
METHOD:PUBLISH
BEGIN:VEVENT
UID:2807456721a4d043c8a9856272773e83
CATEGORIES:Community Events
CREATED:20250702T182532
SUMMARY:Maple View Retirement Residence annual community BBQ
LOCATION:2281 county road 45\, Norwood\, Ontario
DESCRIPTION:Maple View retirement residence will be having their annual community bbq f
 riday august 22nd from 11- 2pm. there will be live entertainment, a silent 
 auction, 50/50 draw, vendors, car show, and bouncy castle, face painting, a
 nd ducky pool prizes for the kids. $2.00 will get you a burger hot dog sala
 ds a drink and ice cream. come out and show your support. rain date will be
  august 29th.\n
X-ALT-DESC;FMTTYPE=text/html:<p>Maple View retirement residence will be having their annual community bb
 q friday august 22nd from 11- 2pm. there will be live entertainment, a sile
 nt auction, 50/50 draw, vendors, car show, and bouncy castle, face painting
 , and ducky pool prizes for the kids. $2.00 will get you a burger hot dog s
 alads a drink and ice cream. come out and show your support. rain date will
  be august 29th.</p>
CONTACT:Vicki or Cindy 705 639 5374
DTSTAMP:20260423T012838
DTSTART:20250822T110000
DTEND:20250822T140000
SEQUENCE:0
TRANSP:OPAQUE
END:VEVENT
END:VCALENDAR