BEGIN:VCALENDAR
VERSION:2.0
PRODID:-//jEvents 2.0 for Joomla//EN
CALSCALE:GREGORIAN
METHOD:PUBLISH
BEGIN:VEVENT
UID:e22613fc01ab7f23b92ce5f341856eef
CATEGORIES:Community Events
CREATED:20250707T152618
SUMMARY:Buckhorn Festival of the Arts
LOCATION:Buckhorn Community Centre\, 1782 Lakehurst Road\, Buckhorn K0L1J0
DESCRIPTION:Experience fine art, good music and great company at the annual Buckhorn Fe
 stival of the Arts on Saturday, August 16 from 10am to 5pm and Sunday, Augu
 st 17 from 10am to 4pm. International artists are featured in the parklike 
 setting of the Buckhorn Community Centre. Admission is by donation. Visit w
 ww.buckhorncommunitycentre.com (http://www.buckhorncommunitycentre.com) for
  more information.\n
X-ALT-DESC;FMTTYPE=text/html:<p>Experience fine art, good music and great company at the annual Buckhorn
  Festival of the Arts on Saturday, August 16 from 10am to 5pm and Sunday, A
 ugust 17 from 10am to 4pm. International artists are featured in the parkli
 ke setting of the Buckhorn Community Centre. Admission is by donation. Visi
 t <a href="http://www.buckhorncommunitycentre.com">www.buckhorncommunitycen
 tre.com</a> for more information.</p>
CONTACT:Meghan Arnott
DTSTAMP:20260423T074407
DTSTART:20250816T100000
DTEND:20250816T170000
SEQUENCE:0
TRANSP:OPAQUE
END:VEVENT
END:VCALENDAR